BEGIN:VCALENDAR
VERSION:2.0
PRODID:-//Transylvania County Library - ECPv6.15.20//NONSGML v1.0//EN
CALSCALE:GREGORIAN
METHOD:PUBLISH
X-ORIGINAL-URL:https://library.transylvaniacounty.org
X-WR-CALDESC:Events for Transylvania County Library
REFRESH-INTERVAL;VALUE=DURATION:PT1H
X-Robots-Tag:noindex
X-PUBLISHED-TTL:PT1H
BEGIN:VTIMEZONE
TZID:America/New_York
BEGIN:DAYLIGHT
TZOFFSETFROM:-0500
TZOFFSETTO:-0400
TZNAME:EDT
DTSTART:20210314T070000
END:DAYLIGHT
BEGIN:STANDARD
TZOFFSETFROM:-0400
TZOFFSETTO:-0500
TZNAME:EST
DTSTART:20211107T060000
END:STANDARD
BEGIN:DAYLIGHT
TZOFFSETFROM:-0500
TZOFFSETTO:-0400
TZNAME:EDT
DTSTART:20220313T070000
END:DAYLIGHT
BEGIN:STANDARD
TZOFFSETFROM:-0400
TZOFFSETTO:-0500
TZNAME:EST
DTSTART:20221106T060000
END:STANDARD
BEGIN:DAYLIGHT
TZOFFSETFROM:-0500
TZOFFSETTO:-0400
TZNAME:EDT
DTSTART:20230312T070000
END:DAYLIGHT
BEGIN:STANDARD
TZOFFSETFROM:-0400
TZOFFSETTO:-0500
TZNAME:EST
DTSTART:20231105T060000
END:STANDARD
END:VTIMEZONE
BEGIN:VEVENT
DTSTART;TZID=America/New_York:20221205T160000
DTEND;TZID=America/New_York:20221205T170000
DTSTAMP:20260423T161421
CREATED:20220623T132544Z
LAST-MODIFIED:20221115T170817Z
UID:10001236-1670256000-1670259600@library.transylvaniacounty.org
SUMMARY:Teen Drawing Club
DESCRIPTION:On the 1st and 3rd Mondays of every month (except when Library is closed for holiday)\, meet up with other drawing enthusiasts and enjoy an hour of drawing\, sketching\, doodling\, or coloring. Sharing techniques and creations is encouraged. \nThe Library will provide basic pencils\, colored pencils\, and paper or bring your own supplies. We also have books to help you get inspired! No registration is necessary. This program is for those in grades 6-12.
URL:https://library.transylvaniacounty.org/event/teen-drawing-club-4-2020-05-11-2022-08-01/2022-12-05/
LOCATION:Teen Space\, Transylvania County Library\, 212 South Gaston Street\, Brevard\, NC\, 28712\, United States
CATEGORIES:Teen Event
ATTACH;FMTTYPE=image/png:https://library.transylvaniacounty.org/wp-content/uploads/2022/06/Teen-Drawing-Club-2022-Website-Image.png
ORGANIZER;CN="Youth Services":MAILTO:youth.services@transylvaniacounty.org
END:VEVENT
BEGIN:VEVENT
DTSTART;VALUE=DATE:20221201
DTEND;VALUE=DATE:20221202
DTSTAMP:20260423T161421
CREATED:20220912T132511Z
LAST-MODIFIED:20221102T140823Z
UID:10002480-1669852800-1669939199@library.transylvaniacounty.org
SUMMARY:Teen Drop-In Activity: Rock Photo Holder
DESCRIPTION:Teens in grades 6-12 can stop by the Teen Space area at the Library and get creative with our monthly activities. Available all month long. \nDecember’s activity is designing a rock with wire to hold a photograph.
URL:https://library.transylvaniacounty.org/event/teen-space-activity-2022-12-01/
LOCATION:Teen Space\, Transylvania County Library\, 212 South Gaston Street\, Brevard\, NC\, 28712\, United States
CATEGORIES:Teen Event
ATTACH;FMTTYPE=image/png:https://library.transylvaniacounty.org/wp-content/uploads/2022/09/Dec-Teen-Activity-2022-web-event-image-e1667398089774.png
ORGANIZER;CN="Youth Services":MAILTO:youth.services@transylvaniacounty.org
END:VEVENT
BEGIN:VEVENT
DTSTART;TZID=America/New_York:20221121T160000
DTEND;TZID=America/New_York:20221121T170000
DTSTAMP:20260423T161421
CREATED:20230629T172559Z
LAST-MODIFIED:20230629T172559Z
UID:10001240-1669046400-1669050000@library.transylvaniacounty.org
SUMMARY:Teen Drawing Club
DESCRIPTION:On the 1st and 3rd Mondays of every month (except when Library is closed for holiday)\, meet up with other drawing enthusiasts and enjoy an hour of drawing\, sketching\, doodling\, or coloring. Sharing techniques and creations is encouraged. \nThe Library will provide basic pencils\, colored pencils\, and paper or bring your own supplies. We also have books to help you get inspired! No registration is necessary. This program is for those in grades 6-12.
URL:https://library.transylvaniacounty.org/event/teen-drawing-club-4-2020-05-11-2022-08-01/2022-11-21/
LOCATION:Teen Space\, Transylvania County Library\, 212 South Gaston Street\, Brevard\, NC\, 28712\, United States
CATEGORIES:Teen Event
ATTACH;FMTTYPE=image/png:https://library.transylvaniacounty.org/wp-content/uploads/2022/06/Teen-Drawing-Club-2022-Website-Image.png
ORGANIZER;CN="Youth Services":MAILTO:youth.services@transylvaniacounty.org
END:VEVENT
BEGIN:VEVENT
DTSTART;TZID=America/New_York:20221107T160000
DTEND;TZID=America/New_York:20221107T170000
DTSTAMP:20260423T161421
CREATED:20220623T132544Z
LAST-MODIFIED:20221115T170817Z
UID:10001235-1667836800-1667840400@library.transylvaniacounty.org
SUMMARY:Teen Drawing Club
DESCRIPTION:On the 1st and 3rd Mondays of every month (except when Library is closed for holiday)\, meet up with other drawing enthusiasts and enjoy an hour of drawing\, sketching\, doodling\, or coloring. Sharing techniques and creations is encouraged. \nThe Library will provide basic pencils\, colored pencils\, and paper or bring your own supplies. We also have books to help you get inspired! No registration is necessary. This program is for those in grades 6-12.
URL:https://library.transylvaniacounty.org/event/teen-drawing-club-4-2020-05-11-2022-08-01/2022-11-07/
LOCATION:Teen Space\, Transylvania County Library\, 212 South Gaston Street\, Brevard\, NC\, 28712\, United States
CATEGORIES:Teen Event
ATTACH;FMTTYPE=image/png:https://library.transylvaniacounty.org/wp-content/uploads/2022/06/Teen-Drawing-Club-2022-Website-Image.png
ORGANIZER;CN="Youth Services":MAILTO:youth.services@transylvaniacounty.org
END:VEVENT
BEGIN:VEVENT
DTSTART;VALUE=DATE:20221101
DTEND;VALUE=DATE:20221102
DTSTAMP:20260423T161421
CREATED:20220912T132511Z
LAST-MODIFIED:20221101T212205Z
UID:10002479-1667260800-1667347199@library.transylvaniacounty.org
SUMMARY:Teen Drop-In Activity: "I Am" Collage
DESCRIPTION:Teens in grades 6-12 can stop by the Teen Space area at the Library and get creative with our monthly activities. Available all month long. \nNovember’s activity is creating a collage all about you with an “I Am…” Collage.
URL:https://library.transylvaniacounty.org/event/teen-space-activity-2022-11-01/
LOCATION:Teen Space\, Transylvania County Library\, 212 South Gaston Street\, Brevard\, NC\, 28712\, United States
CATEGORIES:Teen Event
ATTACH;FMTTYPE=image/png:https://library.transylvaniacounty.org/wp-content/uploads/2022/09/November-2022-web-event-image-1-e1666277293448.png
ORGANIZER;CN="Youth Services":MAILTO:youth.services@transylvaniacounty.org
END:VEVENT
BEGIN:VEVENT
DTSTART;TZID=America/New_York:20221017T160000
DTEND;TZID=America/New_York:20221017T170000
DTSTAMP:20260423T161421
CREATED:20230629T172559Z
LAST-MODIFIED:20230629T172559Z
UID:10001239-1666022400-1666026000@library.transylvaniacounty.org
SUMMARY:Teen Drawing Club
DESCRIPTION:On the 1st and 3rd Mondays of every month (except when Library is closed for holiday)\, meet up with other drawing enthusiasts and enjoy an hour of drawing\, sketching\, doodling\, or coloring. Sharing techniques and creations is encouraged. \nThe Library will provide basic pencils\, colored pencils\, and paper or bring your own supplies. We also have books to help you get inspired! No registration is necessary. This program is for those in grades 6-12.
URL:https://library.transylvaniacounty.org/event/teen-drawing-club-4-2020-05-11-2022-08-01/2022-10-17/
LOCATION:Teen Space\, Transylvania County Library\, 212 South Gaston Street\, Brevard\, NC\, 28712\, United States
CATEGORIES:Teen Event
ATTACH;FMTTYPE=image/png:https://library.transylvaniacounty.org/wp-content/uploads/2022/06/Teen-Drawing-Club-2022-Website-Image.png
ORGANIZER;CN="Youth Services":MAILTO:youth.services@transylvaniacounty.org
END:VEVENT
BEGIN:VEVENT
DTSTART;TZID=America/New_York:20221003T160000
DTEND;TZID=America/New_York:20221003T170000
DTSTAMP:20260423T161421
CREATED:20220623T132544Z
LAST-MODIFIED:20221115T170817Z
UID:10001234-1664812800-1664816400@library.transylvaniacounty.org
SUMMARY:Teen Drawing Club
DESCRIPTION:On the 1st and 3rd Mondays of every month (except when Library is closed for holiday)\, meet up with other drawing enthusiasts and enjoy an hour of drawing\, sketching\, doodling\, or coloring. Sharing techniques and creations is encouraged. \nThe Library will provide basic pencils\, colored pencils\, and paper or bring your own supplies. We also have books to help you get inspired! No registration is necessary. This program is for those in grades 6-12.
URL:https://library.transylvaniacounty.org/event/teen-drawing-club-4-2020-05-11-2022-08-01/2022-10-03/
LOCATION:Teen Space\, Transylvania County Library\, 212 South Gaston Street\, Brevard\, NC\, 28712\, United States
CATEGORIES:Teen Event
ATTACH;FMTTYPE=image/png:https://library.transylvaniacounty.org/wp-content/uploads/2022/06/Teen-Drawing-Club-2022-Website-Image.png
ORGANIZER;CN="Youth Services":MAILTO:youth.services@transylvaniacounty.org
END:VEVENT
BEGIN:VEVENT
DTSTART;VALUE=DATE:20221001
DTEND;VALUE=DATE:20221002
DTSTAMP:20260423T161421
CREATED:20220912T132511Z
LAST-MODIFIED:20221020T142559Z
UID:10002468-1664582400-1664668799@library.transylvaniacounty.org
SUMMARY:Teen Drop-In Activity: Origami Vampire Fangs
DESCRIPTION:Teens in grades 6-12 can stop by the Teen Space area at the Library and get creative with our monthly activities. \nOctober’s activity is Origami Vampire Fangs.
URL:https://library.transylvaniacounty.org/event/teen-space-activity22-10-01/2022-10-01/
LOCATION:Teen Space\, Transylvania County Library\, 212 South Gaston Street\, Brevard\, NC\, 28712\, United States
CATEGORIES:Teen Event
ATTACH;FMTTYPE=image/png:https://library.transylvaniacounty.org/wp-content/uploads/2022/06/origamipaper-e1663004739409.png
ORGANIZER;CN="Youth Services":MAILTO:youth.services@transylvaniacounty.org
END:VEVENT
BEGIN:VEVENT
DTSTART;TZID=America/New_York:20220919T160000
DTEND;TZID=America/New_York:20220919T170000
DTSTAMP:20260423T161421
CREATED:20230629T172559Z
LAST-MODIFIED:20230629T172559Z
UID:10001238-1663603200-1663606800@library.transylvaniacounty.org
SUMMARY:Teen Drawing Club
DESCRIPTION:On the 1st and 3rd Mondays of every month (except when Library is closed for holiday)\, meet up with other drawing enthusiasts and enjoy an hour of drawing\, sketching\, doodling\, or coloring. Sharing techniques and creations is encouraged. \nThe Library will provide basic pencils\, colored pencils\, and paper or bring your own supplies. We also have books to help you get inspired! No registration is necessary. This program is for those in grades 6-12.
URL:https://library.transylvaniacounty.org/event/teen-drawing-club-4-2020-05-11-2022-08-01/2022-09-19/
LOCATION:Teen Space\, Transylvania County Library\, 212 South Gaston Street\, Brevard\, NC\, 28712\, United States
CATEGORIES:Teen Event
ATTACH;FMTTYPE=image/png:https://library.transylvaniacounty.org/wp-content/uploads/2022/06/Teen-Drawing-Club-2022-Website-Image.png
ORGANIZER;CN="Youth Services":MAILTO:youth.services@transylvaniacounty.org
END:VEVENT
BEGIN:VEVENT
DTSTART;VALUE=DATE:20220901
DTEND;VALUE=DATE:20220902
DTSTAMP:20260423T161421
CREATED:20220622T132511Z
LAST-MODIFIED:20220912T174019Z
UID:10001372-1661990400-1662076799@library.transylvaniacounty.org
SUMMARY:Teen Drop-In Activity: Code a Keychain
DESCRIPTION:Teens in grades 6-12 can stop by the Teen Space area at the Library and get creative with our monthly activities. \nSeptember’s activity is Code a Keychain. Make a beaded keychain using code for your initials.
URL:https://library.transylvaniacounty.org/event/teen-space-activity-tabletop-mandalas-2022-07-01-2022-08-01-2022-09-01/2022-09-01/
LOCATION:Teen Space\, Transylvania County Library\, 212 South Gaston Street\, Brevard\, NC\, 28712\, United States
CATEGORIES:Teen Event
ATTACH;FMTTYPE=image/jpeg:https://library.transylvaniacounty.org/wp-content/uploads/2022/06/binary-g8d9c1f5e1_1920-e1660317271391.jpg
ORGANIZER;CN="Youth Services":MAILTO:youth.services@transylvaniacounty.org
END:VEVENT
BEGIN:VEVENT
DTSTART;TZID=America/New_York:20220815T160000
DTEND;TZID=America/New_York:20220815T170000
DTSTAMP:20260423T161421
CREATED:20230629T172559Z
LAST-MODIFIED:20230629T172559Z
UID:10001237-1660579200-1660582800@library.transylvaniacounty.org
SUMMARY:Teen Drawing Club
DESCRIPTION:On the 1st and 3rd Mondays of every month (except when Library is closed for holiday)\, meet up with other drawing enthusiasts and enjoy an hour of drawing\, sketching\, doodling\, or coloring. Sharing techniques and creations is encouraged. \nThe Library will provide basic pencils\, colored pencils\, and paper or bring your own supplies. We also have books to help you get inspired! No registration is necessary. This program is for those in grades 6-12.
URL:https://library.transylvaniacounty.org/event/teen-drawing-club-4-2020-05-11-2022-08-01/2022-08-15/
LOCATION:Teen Space\, Transylvania County Library\, 212 South Gaston Street\, Brevard\, NC\, 28712\, United States
CATEGORIES:Teen Event
ATTACH;FMTTYPE=image/png:https://library.transylvaniacounty.org/wp-content/uploads/2022/06/Teen-Drawing-Club-2022-Website-Image.png
ORGANIZER;CN="Youth Services":MAILTO:youth.services@transylvaniacounty.org
END:VEVENT
BEGIN:VEVENT
DTSTART;TZID=America/New_York:20220801T160000
DTEND;TZID=America/New_York:20220801T170000
DTSTAMP:20260423T161421
CREATED:20220623T132544Z
LAST-MODIFIED:20221115T170817Z
UID:10001233-1659369600-1659373200@library.transylvaniacounty.org
SUMMARY:Teen Drawing Club
DESCRIPTION:On the 1st and 3rd Mondays of every month (except when Library is closed for holiday)\, meet up with other drawing enthusiasts and enjoy an hour of drawing\, sketching\, doodling\, or coloring. Sharing techniques and creations is encouraged. \nThe Library will provide basic pencils\, colored pencils\, and paper or bring your own supplies. We also have books to help you get inspired! No registration is necessary. This program is for those in grades 6-12.
URL:https://library.transylvaniacounty.org/event/teen-drawing-club-4-2020-05-11-2022-08-01/2022-08-01/
LOCATION:Teen Space\, Transylvania County Library\, 212 South Gaston Street\, Brevard\, NC\, 28712\, United States
CATEGORIES:Teen Event
ATTACH;FMTTYPE=image/png:https://library.transylvaniacounty.org/wp-content/uploads/2022/06/Teen-Drawing-Club-2022-Website-Image.png
ORGANIZER;CN="Youth Services":MAILTO:youth.services@transylvaniacounty.org
END:VEVENT
BEGIN:VEVENT
DTSTART;VALUE=DATE:20220801
DTEND;VALUE=DATE:20220802
DTSTAMP:20260423T161421
CREATED:20220622T132511Z
LAST-MODIFIED:20220812T150309Z
UID:10001232-1659312000-1659398399@library.transylvaniacounty.org
SUMMARY:Teen Drop-In Activity: Clay Creations
DESCRIPTION:Teens in grades 6-12 can stop by the Teen Space area at the Library in August and get creative with our monthly activities. \nThis month’s activity is Clay Creations. Transform colorful air-dry clay into a clever creation!
URL:https://library.transylvaniacounty.org/event/teen-space-activity-tabletop-mandalas-2022-07-01-2022-08-01/2022-08-01/
LOCATION:Teen Space\, Transylvania County Library\, 212 South Gaston Street\, Brevard\, NC\, 28712\, United States
CATEGORIES:Teen Event
ATTACH;FMTTYPE=image/jpeg:https://library.transylvaniacounty.org/wp-content/uploads/2022/06/colorfulclay.jpg
ORGANIZER;CN="Youth Services":MAILTO:youth.services@transylvaniacounty.org
END:VEVENT
BEGIN:VEVENT
DTSTART;VALUE=DATE:20220701
DTEND;VALUE=DATE:20220702
DTSTAMP:20260423T161421
CREATED:20220414T193611Z
LAST-MODIFIED:20220414T193611Z
UID:10002098-1656633600-1656719999@library.transylvaniacounty.org
SUMMARY:Teen Space Activity: Marker Mugs
DESCRIPTION:Teens in grades 6-12 can stop by the Teen Space area at the Library and get creative with our monthly activities. \nJuly’s activity is Marker Mugs. Customize your own mug to take home!
URL:https://library.transylvaniacounty.org/event/teen-space-activity-tabletop-mandalas-2022-07-01/2022-07-01/
LOCATION:Teen Space\, Transylvania County Library\, 212 South Gaston Street\, Brevard\, NC\, 28712\, United States
CATEGORIES:Teen Event
ATTACH;FMTTYPE=:
ORGANIZER;CN="Youth Services":MAILTO:youth.services@transylvaniacounty.org
END:VEVENT
BEGIN:VEVENT
DTSTART;VALUE=DATE:20220601
DTEND;VALUE=DATE:20220602
DTSTAMP:20260423T161421
CREATED:20220414T193611Z
LAST-MODIFIED:20220414T193611Z
UID:10002097-1654041600-1654127999@library.transylvaniacounty.org
SUMMARY:Teen Space Activity: Tabletop Mandalas
DESCRIPTION:Teens in grades 6-12 can stop by the Teen Space area at the Library and get creative with our monthly activities. \nJune’s activity is Tabletop Mandalas. We will have large mandalas on the Teen Space tables. Drop by and color as little or as much as you like!
URL:https://library.transylvaniacounty.org/event/teen-space-activity-tabletop-mandalas/2022-06-01/
LOCATION:Teen Space\, Transylvania County Library\, 212 South Gaston Street\, Brevard\, NC\, 28712\, United States
CATEGORIES:Teen Event
ATTACH;FMTTYPE=:
ORGANIZER;CN="Youth Services":MAILTO:youth.services@transylvaniacounty.org
END:VEVENT
END:VCALENDAR