BEGIN:VCALENDAR
VERSION:2.0
PRODID:-//Transylvania County Library - ECPv6.15.20//NONSGML v1.0//EN
CALSCALE:GREGORIAN
METHOD:PUBLISH
X-WR-CALNAME:Transylvania County Library
X-ORIGINAL-URL:https://library.transylvaniacounty.org
X-WR-CALDESC:Events for Transylvania County Library
REFRESH-INTERVAL;VALUE=DURATION:PT1H
X-Robots-Tag:noindex
X-PUBLISHED-TTL:PT1H
BEGIN:VTIMEZONE
TZID:America/New_York
BEGIN:DAYLIGHT
TZOFFSETFROM:-0500
TZOFFSETTO:-0400
TZNAME:EDT
DTSTART:20250309T070000
END:DAYLIGHT
BEGIN:STANDARD
TZOFFSETFROM:-0400
TZOFFSETTO:-0500
TZNAME:EST
DTSTART:20251102T060000
END:STANDARD
BEGIN:DAYLIGHT
TZOFFSETFROM:-0500
TZOFFSETTO:-0400
TZNAME:EDT
DTSTART:20260308T070000
END:DAYLIGHT
BEGIN:STANDARD
TZOFFSETFROM:-0400
TZOFFSETTO:-0500
TZNAME:EST
DTSTART:20261101T060000
END:STANDARD
BEGIN:DAYLIGHT
TZOFFSETFROM:-0500
TZOFFSETTO:-0400
TZNAME:EDT
DTSTART:20270314T070000
END:DAYLIGHT
BEGIN:STANDARD
TZOFFSETFROM:-0400
TZOFFSETTO:-0500
TZNAME:EST
DTSTART:20271107T060000
END:STANDARD
END:VTIMEZONE
BEGIN:VEVENT
DTSTART;VALUE=DATE:20260419
DTEND;VALUE=DATE:20260426
DTSTAMP:20260422T060903
CREATED:20260318T162609Z
LAST-MODIFIED:20260318T162609Z
UID:10010306-1776556800-1777161599@library.transylvaniacounty.org
SUMMARY:Celebrate National Library Week!
DESCRIPTION:National Library Week 2026 \n The Transylvania County Library will join other libraries nationwide to celebrate National Library Week (April 19-25\, 2026). The American Library Association began observing and sponsoring National Library Week in 1958 to celebrate our nation’s libraries.  Each April\, all types of libraries – school\, public\, academic and special – participate. The Library will be having many programs this week to celebrate.  Check the event calendar for complete details.
URL:https://library.transylvaniacounty.org/event/celebrate-national-library-week-2/
LOCATION:Rogow Community Room\, Transylvania County Library\, 212 South Gaston Street\, Brevard\, NC\, 28712\, United States
ATTACH;FMTTYPE=application/pdf:https://library.transylvaniacounty.org/wp-content/uploads/2026/03/NLW-ALA-Graphic.pdf
END:VEVENT
BEGIN:VEVENT
DTSTART;TZID=America/New_York:20260422T100000
DTEND;TZID=America/New_York:20260422T120000
DTSTAMP:20260422T060903
CREATED:20260318T193919Z
LAST-MODIFIED:20260318T193919Z
UID:10010310-1776852000-1776859200@library.transylvaniacounty.org
SUMMARY:Career Assistance at the NCWorks Outpost
DESCRIPTION:Are you looking for a job? Do you need help with your job search\, resume writing\, or interviewing skills? \nA Career Advisor from the NCWorks Career Center will be in the Reference Area at the library to assist job seekers with their job search efforts. Assistance filling out job applications\, creating professional resumes\, and preparing for interviews will be provided.  An advisor will be available the second and fourth Wednesdays of each month from 10 am to 12 noon.   You can ALWAYS visit  the NCWorks Career Center located on the Transylvania campus of Blue Ridge Community College during their operating hours.
URL:https://library.transylvaniacounty.org/event/career-assistance-at-the-ncworks-outpost/
LOCATION:1st floor of the Library\, 212 South Gaston Street\, Brevard\, NC\, 28712\, United States
ATTACH;FMTTYPE=image/png:https://library.transylvaniacounty.org/wp-content/uploads/2023/01/NCWorksOutpost.png
END:VEVENT
BEGIN:VEVENT
DTSTART;TZID=America/New_York:20260422T100000
DTEND;TZID=America/New_York:20260422T160000
DTSTAMP:20260422T060903
CREATED:20260415T144637Z
LAST-MODIFIED:20260415T145045Z
UID:10010583-1776852000-1776873600@library.transylvaniacounty.org
SUMMARY:Tour the Bookmobile on National Library Outreach Day!
DESCRIPTION:National Library Outreach Day is April 22!\nThe Bookmobile will be parked in the Library parking lot.  Hop on board for a tour\, check out a few books and learn about all the places our Bookmobile travels throughout each month.
URL:https://library.transylvaniacounty.org/event/tour-the-bookmobile-on-national-library-outreach-day-2026/
LOCATION:Transylvania County Library\, 212 South Gaston Street Brevard\, Brevard\, NC\, 28712\, United States
CATEGORIES:All Ages,Bookmobile
ATTACH;FMTTYPE=image/png:https://library.transylvaniacounty.org/wp-content/uploads/2026/04/Bookmobile-Fall-2.png
END:VEVENT
BEGIN:VEVENT
DTSTART;TZID=America/New_York:20260422T130000
DTEND;TZID=America/New_York:20260422T140000
DTSTAMP:20260422T060903
CREATED:20260318T155251Z
LAST-MODIFIED:20260417T204121Z
UID:10010303-1776862800-1776866400@library.transylvaniacounty.org
SUMMARY:REGISTRATION FULL - Field Trips for Grownups: ALULA
DESCRIPTION:Introducing: Field Trips for Grownups!  Get behind-the-scenes tours of the places – and meet the people – who help our community thrive!  These events are for folks 18+.  We’ll walk around and see the sites\, ask all our burning questions\, and make friends with community helpers.  Registration is required as space is limited. \nSecond stop: ALULA\, formerly Transylvania Vocational Services \nWhen: Wednesday\, April 22 •  1:00-2:00 pm \nWhere: Meet there: 11 Mountain Industrial Dr Brevard **Please note: we are not providing transportation; meet there!** \nJoin us for a tour of ALULA\, formerly known as TVS and learn all about what they manufacture and how they support our community. \n \n  \n  \n 
URL:https://library.transylvaniacounty.org/event/field-trips-for-grownups-allison-deaver-house-2/
LOCATION:Foyer\, Transylvania County Library\, 212 South Gaston Street\, Brevard\, NC\, 28712\, United States
ATTACH;FMTTYPE=image/png:https://library.transylvaniacounty.org/wp-content/uploads/2026/03/Copy-of-Field-Trip-Web-images-1.png
END:VEVENT
END:VCALENDAR