BEGIN:VCALENDAR
VERSION:2.0
PRODID:-//Transylvania County Library - ECPv6.15.20//NONSGML v1.0//EN
CALSCALE:GREGORIAN
METHOD:PUBLISH
X-WR-CALNAME:Transylvania County Library
X-ORIGINAL-URL:https://library.transylvaniacounty.org
X-WR-CALDESC:Events for Transylvania County Library
REFRESH-INTERVAL;VALUE=DURATION:PT1H
X-Robots-Tag:noindex
X-PUBLISHED-TTL:PT1H
BEGIN:VTIMEZONE
TZID:America/New_York
BEGIN:DAYLIGHT
TZOFFSETFROM:-0500
TZOFFSETTO:-0400
TZNAME:EDT
DTSTART:20210314T070000
END:DAYLIGHT
BEGIN:STANDARD
TZOFFSETFROM:-0400
TZOFFSETTO:-0500
TZNAME:EST
DTSTART:20211107T060000
END:STANDARD
BEGIN:DAYLIGHT
TZOFFSETFROM:-0500
TZOFFSETTO:-0400
TZNAME:EDT
DTSTART:20220313T070000
END:DAYLIGHT
BEGIN:STANDARD
TZOFFSETFROM:-0400
TZOFFSETTO:-0500
TZNAME:EST
DTSTART:20221106T060000
END:STANDARD
BEGIN:DAYLIGHT
TZOFFSETFROM:-0500
TZOFFSETTO:-0400
TZNAME:EDT
DTSTART:20230312T070000
END:DAYLIGHT
BEGIN:STANDARD
TZOFFSETFROM:-0400
TZOFFSETTO:-0500
TZNAME:EST
DTSTART:20231105T060000
END:STANDARD
END:VTIMEZONE
BEGIN:VEVENT
DTSTART;TZID=America/New_York:20220802T120000
DTEND;TZID=America/New_York:20220802T133000
DTSTAMP:20260423T233022
CREATED:20220727T151205Z
LAST-MODIFIED:20220805T160459Z
UID:10002230-1659441600-1659447000@library.transylvaniacounty.org
SUMMARY:Women of Appalachia - Film Series
DESCRIPTION:Women of Appalachia Film Series \nEnjoy this series of short documentaries with oral history elements highlighting the lives and experiences of Women of Appalachia. Discussion led by local historian Yvonne McCall-Dickson to follow. \nThese interviews will be shown on these Tuesdays in August at 12 noon: \nAugust 2 – Vera Cansler \nAugust 9 – Vera Stinson \nAugust 23 – Selena Robinson \nAugust 30 – Sheila Kay Adams \nIn partnership with the Transylvania Heritage Museum.
URL:https://library.transylvaniacounty.org/event/women-of-appalachia-film-series/2022-08-02/
CATEGORIES:Local History
ATTACH;FMTTYPE=image/jpeg:https://library.transylvaniacounty.org/wp-content/uploads/2022/07/P2_047_Barton_three_ladies_id_on_picture-scaled-e1659367148444.jpg
END:VEVENT
END:VCALENDAR