BEGIN:VCALENDAR
VERSION:2.0
PRODID:-//Transylvania County Library - ECPv6.15.20//NONSGML v1.0//EN
CALSCALE:GREGORIAN
METHOD:PUBLISH
X-WR-CALNAME:Transylvania County Library
X-ORIGINAL-URL:https://library.transylvaniacounty.org
X-WR-CALDESC:Events for Transylvania County Library
REFRESH-INTERVAL;VALUE=DURATION:PT1H
X-Robots-Tag:noindex
X-PUBLISHED-TTL:PT1H
BEGIN:VTIMEZONE
TZID:America/New_York
BEGIN:DAYLIGHT
TZOFFSETFROM:-0500
TZOFFSETTO:-0400
TZNAME:EDT
DTSTART:20220313T070000
END:DAYLIGHT
BEGIN:STANDARD
TZOFFSETFROM:-0400
TZOFFSETTO:-0500
TZNAME:EST
DTSTART:20221106T060000
END:STANDARD
BEGIN:DAYLIGHT
TZOFFSETFROM:-0500
TZOFFSETTO:-0400
TZNAME:EDT
DTSTART:20230312T070000
END:DAYLIGHT
BEGIN:STANDARD
TZOFFSETFROM:-0400
TZOFFSETTO:-0500
TZNAME:EST
DTSTART:20231105T060000
END:STANDARD
BEGIN:DAYLIGHT
TZOFFSETFROM:-0500
TZOFFSETTO:-0400
TZNAME:EDT
DTSTART:20240310T070000
END:DAYLIGHT
BEGIN:STANDARD
TZOFFSETFROM:-0400
TZOFFSETTO:-0500
TZNAME:EST
DTSTART:20241103T060000
END:STANDARD
END:VTIMEZONE
BEGIN:VEVENT
DTSTART;VALUE=DATE:20230103
DTEND;VALUE=DATE:20230104
DTSTAMP:20260424T075017
CREATED:20220319T133907Z
LAST-MODIFIED:20221222T200935Z
UID:10002482-1672704000-1672790399@library.transylvaniacounty.org
SUMMARY:Winter Take & Make Series for Kids
DESCRIPTION:Pick up a new take & make activity each month December through February. Available all month long until they are gone! \nDecember – Paper Circle Mobile & Scratch Art Snowflakes\nJanuary – Penguin Bookmark & Yarn Snowperson\nFebruary – 3D Winter Scene & Pom Pom Hedgehog \nActivities will be available at the Youth Services desk while supplies last. One per child per visit.
URL:https://library.transylvaniacounty.org/event/winter_take_make_kids_dec2022/2023-01-03/
LOCATION:Kids & Teens Desk\, Transylvania County Library\, 212 South Gaston Street\, Brevard\, NC\, 28712\, United States
CATEGORIES:Kids Event
ATTACH;FMTTYPE=image/png:https://library.transylvaniacounty.org/wp-content/uploads/2022/03/Winter-Take-Make-web-event-e1666277204463.png
END:VEVENT
END:VCALENDAR