BEGIN:VCALENDAR
VERSION:2.0
PRODID:-//Transylvania County Library - ECPv6.15.20//NONSGML v1.0//EN
CALSCALE:GREGORIAN
METHOD:PUBLISH
X-WR-CALNAME:Transylvania County Library
X-ORIGINAL-URL:https://library.transylvaniacounty.org
X-WR-CALDESC:Events for Transylvania County Library
REFRESH-INTERVAL;VALUE=DURATION:PT1H
X-Robots-Tag:noindex
X-PUBLISHED-TTL:PT1H
BEGIN:VTIMEZONE
TZID:America/New_York
BEGIN:DAYLIGHT
TZOFFSETFROM:-0500
TZOFFSETTO:-0400
TZNAME:EDT
DTSTART:20160313T070000
END:DAYLIGHT
BEGIN:STANDARD
TZOFFSETFROM:-0400
TZOFFSETTO:-0500
TZNAME:EST
DTSTART:20161106T060000
END:STANDARD
BEGIN:DAYLIGHT
TZOFFSETFROM:-0500
TZOFFSETTO:-0400
TZNAME:EDT
DTSTART:20170312T070000
END:DAYLIGHT
BEGIN:STANDARD
TZOFFSETFROM:-0400
TZOFFSETTO:-0500
TZNAME:EST
DTSTART:20171105T060000
END:STANDARD
BEGIN:DAYLIGHT
TZOFFSETFROM:-0500
TZOFFSETTO:-0400
TZNAME:EDT
DTSTART:20180311T070000
END:DAYLIGHT
BEGIN:STANDARD
TZOFFSETFROM:-0400
TZOFFSETTO:-0500
TZNAME:EST
DTSTART:20181104T060000
END:STANDARD
END:VTIMEZONE
BEGIN:VEVENT
DTSTART;VALUE=DATE:20170626
DTEND;VALUE=DATE:20170702
DTSTAMP:20260422T091527
CREATED:20180807T174747Z
LAST-MODIFIED:20180807T174747Z
UID:13773-1498435200-1498953599@library.transylvaniacounty.org
SUMMARY:Tween Computer Animation Classes
DESCRIPTION:Two separate week-long sessions will be offered this summer. One in June (June 26-30) and one in August (July 31-August 4). The classes are FREE and will run every day Monday-Friday. Students ages 10 -12 can sign up for the morning (Beginners) or afternoon (Beginners in June & Advanced in August) session.  Registration is Required. Call us at 828-884-3151 ext. 3 or stop by the Youth Services desk. \n\nComputer Animation Classes using Alice software: Alice is back for Tweens this summer. For those who are anxious to learn the art of computer animation we will offer once again Computer Animation classes for ages 10  12. Our Tween classes will use Alice – an educational software developed by a research group at Carnegie Mellon University that teaches computer programming in a 3-D environment.
URL:https://library.transylvaniacounty.org/event/tween-computer-animation-classes-2/
END:VEVENT
END:VCALENDAR