BEGIN:VCALENDAR
VERSION:2.0
PRODID:-//Transylvania County Library - ECPv6.15.20//NONSGML v1.0//EN
CALSCALE:GREGORIAN
METHOD:PUBLISH
X-WR-CALNAME:Transylvania County Library
X-ORIGINAL-URL:https://library.transylvaniacounty.org
X-WR-CALDESC:Events for Transylvania County Library
REFRESH-INTERVAL;VALUE=DURATION:PT1H
X-Robots-Tag:noindex
X-PUBLISHED-TTL:PT1H
BEGIN:VTIMEZONE
TZID:America/New_York
BEGIN:DAYLIGHT
TZOFFSETFROM:-0500
TZOFFSETTO:-0400
TZNAME:EDT
DTSTART:20180311T070000
END:DAYLIGHT
BEGIN:STANDARD
TZOFFSETFROM:-0400
TZOFFSETTO:-0500
TZNAME:EST
DTSTART:20181104T060000
END:STANDARD
BEGIN:DAYLIGHT
TZOFFSETFROM:-0500
TZOFFSETTO:-0400
TZNAME:EDT
DTSTART:20190310T070000
END:DAYLIGHT
BEGIN:STANDARD
TZOFFSETFROM:-0400
TZOFFSETTO:-0500
TZNAME:EST
DTSTART:20191103T060000
END:STANDARD
BEGIN:DAYLIGHT
TZOFFSETFROM:-0500
TZOFFSETTO:-0400
TZNAME:EDT
DTSTART:20200308T070000
END:DAYLIGHT
BEGIN:STANDARD
TZOFFSETFROM:-0400
TZOFFSETTO:-0500
TZNAME:EST
DTSTART:20201101T060000
END:STANDARD
END:VTIMEZONE
BEGIN:VEVENT
DTSTART;TZID=America/New_York:20190108T150000
DTEND;TZID=America/New_York:20190108T163000
DTSTAMP:20260421T045428
CREATED:20200113T192226Z
LAST-MODIFIED:20200113T192226Z
UID:17998-1546959600-1546965000@library.transylvaniacounty.org
SUMMARY:Tuesday Hullabaloo
DESCRIPTION:Babies\, Toddlers\, Preschoolers  Early and Emergent Literacy Program\nBooks  Rhymes  Crafts  Music   Movement\nJoin us as we celebrate and promote early and emergent literacy at the Transylvania County Library.\n\n\n\n\n\n\nTuesday Hullabaloo time schedule:\n10:00  10:30 Squirm & Toddle for ages birth through 2\n10:30  11:00 Crafty Kids for ages 2  5\n11:00  11:30 Preschool Storytime for ages 3  5\nChildren start to learn language from the day they are born. As they grow and develop\, their speech and language skills become increasingly more complex. During early speech and language development\, children learn skills that are important to the development of literacy (reading and writing). This stage\, known as emergent literacy\, begins at birth and continues through the preschool years. \nFrom birth\, babies listen to language patterns in everyday speech\, as well as in rhyming\, chanting\, and singing  all of these play an important part in literacy development. As they develop\, children see and interact with print in everyday situations. In everything from books and magazines to grocery lists\, whether at home or in preschool\, they are (and should be) encountering language in print well before they start elementary school. \nParents can see their child’s growing appreciation and enjoyment of print as he or she begins to recognize words that rhyme\, to scribble with crayons\, to point out street signs and symbols\, and to name some letters of the alphabet. Gradually\, children combine what they know about speaking and listening with what they know about print and become ready to learn to read and write. \nThats what Tuesday Hullabaloo! at the library is all about. Babies\, Toddlers\, Preschoolers\, in all stages of development are welcome to our morning of celebration. Ages listed are typical ranges for the group activities. We realize that there will be some individual variance and we ask that you pay attention to your childs signals to know what he/she is ready for\, or ask us if you are not sure.
URL:https://library.transylvaniacounty.org/event/tuesday-hullabaloo-5/
END:VEVENT
END:VCALENDAR