BEGIN:VCALENDAR
VERSION:2.0
PRODID:-//Transylvania County Library - ECPv6.15.20//NONSGML v1.0//EN
CALSCALE:GREGORIAN
METHOD:PUBLISH
X-WR-CALNAME:Transylvania County Library
X-ORIGINAL-URL:https://library.transylvaniacounty.org
X-WR-CALDESC:Events for Transylvania County Library
REFRESH-INTERVAL;VALUE=DURATION:PT1H
X-Robots-Tag:noindex
X-PUBLISHED-TTL:PT1H
BEGIN:VTIMEZONE
TZID:America/New_York
BEGIN:DAYLIGHT
TZOFFSETFROM:-0500
TZOFFSETTO:-0400
TZNAME:EDT
DTSTART:20240310T070000
END:DAYLIGHT
BEGIN:STANDARD
TZOFFSETFROM:-0400
TZOFFSETTO:-0500
TZNAME:EST
DTSTART:20241103T060000
END:STANDARD
BEGIN:DAYLIGHT
TZOFFSETFROM:-0500
TZOFFSETTO:-0400
TZNAME:EDT
DTSTART:20250309T070000
END:DAYLIGHT
BEGIN:STANDARD
TZOFFSETFROM:-0400
TZOFFSETTO:-0500
TZNAME:EST
DTSTART:20251102T060000
END:STANDARD
BEGIN:DAYLIGHT
TZOFFSETFROM:-0500
TZOFFSETTO:-0400
TZNAME:EDT
DTSTART:20260308T070000
END:DAYLIGHT
BEGIN:STANDARD
TZOFFSETFROM:-0400
TZOFFSETTO:-0500
TZNAME:EST
DTSTART:20261101T060000
END:STANDARD
END:VTIMEZONE
BEGIN:VEVENT
DTSTART;TZID=America/New_York:20250807T160000
DTEND;TZID=America/New_York:20250807T170000
DTSTAMP:20260421T082658
CREATED:20250619T205341Z
LAST-MODIFIED:20250619T205341Z
UID:37990-1754582400-1754586000@library.transylvaniacounty.org
SUMMARY:Teen Book Party
DESCRIPTION:Are you a teen between the ages of 14 and 18? Do you love books? Wanna hang out with fellow book lovers? Join us for the ultimate book party! \nWhat to expect: \n\nShare your latest reads—what rocked\, what flopped\, and everything in between\nRead your favorite passages out loud\nDiscover cool new books\nMunch on tasty snacks (yum!)\n\nWe’re all reading different books\, so get ready for some awesome chats about all kinds of genres and topics. It’s all about fun\, friendly\, and respectful discussions. \nWe’ll host a Teen Book Party four times in 2025\, so stay tuned for future dates. \nRegistration is required for each program. Sign up by stopping by the Kids & Teens desk or by calling 828-884-3151 ext. 3.
URL:https://library.transylvaniacounty.org/event/teen-book-party-3/
LOCATION:Connestee Conference Room\, Transylvania County Library\, 212 S Gaston St\, Brevard\, NC\, 28712\, United States
CATEGORIES:Teen Event
ATTACH;FMTTYPE=image/png:https://library.transylvaniacounty.org/wp-content/uploads/2024/12/Teen-Book-Party-web-event-e1734212335553.png
END:VEVENT
END:VCALENDAR