BEGIN:VCALENDAR
VERSION:2.0
PRODID:-//Transylvania County Library - ECPv6.15.20//NONSGML v1.0//EN
CALSCALE:GREGORIAN
METHOD:PUBLISH
X-WR-CALNAME:Transylvania County Library
X-ORIGINAL-URL:https://library.transylvaniacounty.org
X-WR-CALDESC:Events for Transylvania County Library
REFRESH-INTERVAL;VALUE=DURATION:PT1H
X-Robots-Tag:noindex
X-PUBLISHED-TTL:PT1H
BEGIN:VTIMEZONE
TZID:America/New_York
BEGIN:DAYLIGHT
TZOFFSETFROM:-0500
TZOFFSETTO:-0400
TZNAME:EDT
DTSTART:20160313T070000
END:DAYLIGHT
BEGIN:STANDARD
TZOFFSETFROM:-0400
TZOFFSETTO:-0500
TZNAME:EST
DTSTART:20161106T060000
END:STANDARD
BEGIN:DAYLIGHT
TZOFFSETFROM:-0500
TZOFFSETTO:-0400
TZNAME:EDT
DTSTART:20170312T070000
END:DAYLIGHT
BEGIN:STANDARD
TZOFFSETFROM:-0400
TZOFFSETTO:-0500
TZNAME:EST
DTSTART:20171105T060000
END:STANDARD
BEGIN:DAYLIGHT
TZOFFSETFROM:-0500
TZOFFSETTO:-0400
TZNAME:EDT
DTSTART:20180311T070000
END:DAYLIGHT
BEGIN:STANDARD
TZOFFSETFROM:-0400
TZOFFSETTO:-0500
TZNAME:EST
DTSTART:20181104T060000
END:STANDARD
END:VTIMEZONE
BEGIN:VEVENT
DTSTART;TZID=America/New_York:20170311T170000
DTEND;TZID=America/New_York:20170311T180000
DTSTAMP:20260421T045744
CREATED:20180807T174727Z
LAST-MODIFIED:20180807T174727Z
UID:13720-1489251600-1489255200@library.transylvaniacounty.org
SUMMARY:TC Teens Book Club
DESCRIPTION:2017 TC Teens Book Club\n\n\nTeenagers who are interested in reading the books we have scheduled for the year are welcome to join the TC Teens Book Club and attend our monthly meetings. Meetings are on select Saturdays from 12:00-1:00 PM. Usually its the 3rd Saturday every other month\, but some months vary so mark your calendars according to the dates below. Food and beverages will be provided. \nWe have a featured book every other month and its a great time to meet up with others who love to read and get (and give!) some good book suggestions. You dont have to commit to reading all the books\, or being at every meeting. You can read the ones you want to read and opt out of the others\, and if you cant make it to all the meetings thats okay too. You can pick up a copy of a months featured book at the Youth Services Desk on or after the first of that month.  \nThe 2017 TC Teens Book Club schedule is as follows: \nJanuary 21\, 2017: The Graveyard Book by Neil Gaiman \n \nMarch 11\, 2017: Looking Glass Wars by Frank Beddor \n \nMay 20\, 2017: Life of Pi by Yann Martel \n \nJuly 15\, 2017: The Uglies by Scott Westerfeld \n \nSeptember 16\, 2017: The Watch the Ends the Night: Voices from the Titanic by Allan Wolf \n \nNovember 18\, 2017: American Born Chinese by Gene Luen Yang (Graphic Novel) \n \nDecember 9\, 2017: End of year party!
URL:https://library.transylvaniacounty.org/event/tc-teens-book-club-3/
END:VEVENT
END:VCALENDAR