BEGIN:VCALENDAR
VERSION:2.0
PRODID:-//Transylvania County Library - ECPv6.15.20//NONSGML v1.0//EN
CALSCALE:GREGORIAN
METHOD:PUBLISH
X-WR-CALNAME:Transylvania County Library
X-ORIGINAL-URL:https://library.transylvaniacounty.org
X-WR-CALDESC:Events for Transylvania County Library
REFRESH-INTERVAL;VALUE=DURATION:PT1H
X-Robots-Tag:noindex
X-PUBLISHED-TTL:PT1H
BEGIN:VTIMEZONE
TZID:America/New_York
BEGIN:DAYLIGHT
TZOFFSETFROM:-0500
TZOFFSETTO:-0400
TZNAME:EDT
DTSTART:20200308T070000
END:DAYLIGHT
BEGIN:STANDARD
TZOFFSETFROM:-0400
TZOFFSETTO:-0500
TZNAME:EST
DTSTART:20201101T060000
END:STANDARD
BEGIN:DAYLIGHT
TZOFFSETFROM:-0500
TZOFFSETTO:-0400
TZNAME:EDT
DTSTART:20210314T070000
END:DAYLIGHT
BEGIN:STANDARD
TZOFFSETFROM:-0400
TZOFFSETTO:-0500
TZNAME:EST
DTSTART:20211107T060000
END:STANDARD
BEGIN:DAYLIGHT
TZOFFSETFROM:-0500
TZOFFSETTO:-0400
TZNAME:EDT
DTSTART:20220313T070000
END:DAYLIGHT
BEGIN:STANDARD
TZOFFSETFROM:-0400
TZOFFSETTO:-0500
TZNAME:EST
DTSTART:20221106T060000
END:STANDARD
END:VTIMEZONE
BEGIN:VEVENT
DTSTART;VALUE=DATE:20210315
DTEND;VALUE=DATE:20210316
DTSTAMP:20260421T064215
CREATED:20210210T162340Z
LAST-MODIFIED:20210210T162340Z
UID:10001721-1615766400-1615852799@library.transylvaniacounty.org
SUMMARY:Take & Makes for Kids: Spring Crafts
DESCRIPTION:All month long until they’re gone! One per child per visit. Pick up a monthly activity at the Youth Services desk while supplies last. \n 
URL:https://library.transylvaniacounty.org/event/take-home-big-summer-blowout-2020-10-01-2020-11-02-2020-12-01-2021-01-04-2021-02-01-2021-03-01/2021-03-15/
LOCATION:Kids & Teens Desk\, Transylvania County Library\, 212 South Gaston Street\, Brevard\, NC\, 28712\, United States
CATEGORIES:Kids Event
ATTACH;FMTTYPE=:
ORGANIZER;CN="Youth Services":MAILTO:youth.services@transylvaniacounty.org
END:VEVENT
END:VCALENDAR