BEGIN:VCALENDAR
VERSION:2.0
PRODID:-//Transylvania County Library - ECPv6.15.20//NONSGML v1.0//EN
CALSCALE:GREGORIAN
METHOD:PUBLISH
X-WR-CALNAME:Transylvania County Library
X-ORIGINAL-URL:https://library.transylvaniacounty.org
X-WR-CALDESC:Events for Transylvania County Library
REFRESH-INTERVAL;VALUE=DURATION:PT1H
X-Robots-Tag:noindex
X-PUBLISHED-TTL:PT1H
BEGIN:VTIMEZONE
TZID:America/New_York
BEGIN:DAYLIGHT
TZOFFSETFROM:-0500
TZOFFSETTO:-0400
TZNAME:EDT
DTSTART:20180311T070000
END:DAYLIGHT
BEGIN:STANDARD
TZOFFSETFROM:-0400
TZOFFSETTO:-0500
TZNAME:EST
DTSTART:20181104T060000
END:STANDARD
BEGIN:DAYLIGHT
TZOFFSETFROM:-0500
TZOFFSETTO:-0400
TZNAME:EDT
DTSTART:20190310T070000
END:DAYLIGHT
BEGIN:STANDARD
TZOFFSETFROM:-0400
TZOFFSETTO:-0500
TZNAME:EST
DTSTART:20191103T060000
END:STANDARD
BEGIN:DAYLIGHT
TZOFFSETFROM:-0500
TZOFFSETTO:-0400
TZNAME:EDT
DTSTART:20200308T070000
END:DAYLIGHT
BEGIN:STANDARD
TZOFFSETFROM:-0400
TZOFFSETTO:-0500
TZNAME:EST
DTSTART:20201101T060000
END:STANDARD
END:VTIMEZONE
BEGIN:VEVENT
DTSTART;TZID=America/New_York:20190621T233000
DTEND;TZID=America/New_York:20190622T004500
DTSTAMP:20260421T074545
CREATED:20200113T192445Z
LAST-MODIFIED:20200113T192445Z
UID:18114-1561159800-1561164300@library.transylvaniacounty.org
SUMMARY:Summer Outdoor Concert Series: Zoe & Cloyd
DESCRIPTION:[et_pb_section bb_built=”1″][et_pb_row][et_pb_column type=”4_4″][et_pb_image _builder_version=”3.21.4″ src=”https://library.transylvaniacounty.org/wp-content/uploads/2019/04/Zoe-Cloyd-homepage.jpg” z_index_tablet=”500″ /][et_pb_text _builder_version=”3.21.4″ z_index_tablet=”500″] \nZoe & Cloyd\nJoin us as the sun sets! Local and regional performers share their music in the Library Amphitheater. Rain location: Rogow Room at the Library. \nZoe & Cloyd\, long time fixtures of the Asheville music scene\, will appear on June 21 in support of a forthcoming album release this year.  Ranging from folk to bluegrass stylings\, these award winning musicians and songwriters will bring a quartet to showcase a sound that has been referred to as new Appalachian music. \nThe Summer Concert Series is sponsored by the Friends of the Transylvania County Library. Proceeds from Friends memberships and from Book Room sales help pay for all of the programming at the Library. \n[/et_pb_text][/et_pb_column][/et_pb_row][/et_pb_section]
URL:https://library.transylvaniacounty.org/event/summer-outdoor-concert-series-zoe-cloyd/
LOCATION:Amphitheater\, Transylvania County Library\, 212 S. Gaston St. Brevard\, NC\, Brevard\, NC\, 28712\, United States
END:VEVENT
END:VCALENDAR