BEGIN:VCALENDAR
VERSION:2.0
PRODID:-//Transylvania County Library - ECPv6.15.20//NONSGML v1.0//EN
CALSCALE:GREGORIAN
METHOD:PUBLISH
X-WR-CALNAME:Transylvania County Library
X-ORIGINAL-URL:https://library.transylvaniacounty.org
X-WR-CALDESC:Events for Transylvania County Library
REFRESH-INTERVAL;VALUE=DURATION:PT1H
X-Robots-Tag:noindex
X-PUBLISHED-TTL:PT1H
BEGIN:VTIMEZONE
TZID:America/New_York
BEGIN:DAYLIGHT
TZOFFSETFROM:-0500
TZOFFSETTO:-0400
TZNAME:EDT
DTSTART:20210314T070000
END:DAYLIGHT
BEGIN:STANDARD
TZOFFSETFROM:-0400
TZOFFSETTO:-0500
TZNAME:EST
DTSTART:20211107T060000
END:STANDARD
BEGIN:DAYLIGHT
TZOFFSETFROM:-0500
TZOFFSETTO:-0400
TZNAME:EDT
DTSTART:20220313T070000
END:DAYLIGHT
BEGIN:STANDARD
TZOFFSETFROM:-0400
TZOFFSETTO:-0500
TZNAME:EST
DTSTART:20221106T060000
END:STANDARD
BEGIN:DAYLIGHT
TZOFFSETFROM:-0500
TZOFFSETTO:-0400
TZNAME:EDT
DTSTART:20230312T070000
END:DAYLIGHT
BEGIN:STANDARD
TZOFFSETFROM:-0400
TZOFFSETTO:-0500
TZNAME:EST
DTSTART:20231105T060000
END:STANDARD
END:VTIMEZONE
BEGIN:VEVENT
DTSTART;TZID=America/New_York:20220608T150000
DTEND;TZID=America/New_York:20220608T160000
DTSTAMP:20260424T075207
CREATED:20220414T182433Z
LAST-MODIFIED:20230505T201235Z
UID:10002116-1654700400-1654704000@library.transylvaniacounty.org
SUMMARY:Family Show: Talewise
DESCRIPTION:Talewise presents Pirates: Lost at Sea \nAhoy there\, matey! Set sail with us on a thrilling action-packed adventure about a crew of quirky pirates marooned on a desert island. With mutiny and high-tide looming\, they must rescue their salty captain and find a way to repair their ship before all hope is lost … at sea! \nThroughout the story\, we’ll explore the incredible science behind clouds\, physical and chemical changes\, air pressure\, and more! Volunteers from the audience will help us conduct several hands-on science experiments that ‘ARRR’ sure to amaze you! \nDon’t miss your chance to experience this interactive nautical tale — with a refreshing splash of science! \n  \n 
URL:https://library.transylvaniacounty.org/event/summer-family-show-6-2022-06-08/2022-06-08/
CATEGORIES:Kids Event
ATTACH;FMTTYPE=:
ORGANIZER;CN="Youth Services":MAILTO:youth.services@transylvaniacounty.org
END:VEVENT
END:VCALENDAR