BEGIN:VCALENDAR
VERSION:2.0
PRODID:-//Transylvania County Library - ECPv6.15.20//NONSGML v1.0//EN
CALSCALE:GREGORIAN
METHOD:PUBLISH
X-WR-CALNAME:Transylvania County Library
X-ORIGINAL-URL:https://library.transylvaniacounty.org
X-WR-CALDESC:Events for Transylvania County Library
REFRESH-INTERVAL;VALUE=DURATION:PT1H
X-Robots-Tag:noindex
X-PUBLISHED-TTL:PT1H
BEGIN:VTIMEZONE
TZID:America/New_York
BEGIN:DAYLIGHT
TZOFFSETFROM:-0500
TZOFFSETTO:-0400
TZNAME:EDT
DTSTART:20160313T070000
END:DAYLIGHT
BEGIN:STANDARD
TZOFFSETFROM:-0400
TZOFFSETTO:-0500
TZNAME:EST
DTSTART:20161106T060000
END:STANDARD
BEGIN:DAYLIGHT
TZOFFSETFROM:-0500
TZOFFSETTO:-0400
TZNAME:EDT
DTSTART:20170312T070000
END:DAYLIGHT
BEGIN:STANDARD
TZOFFSETFROM:-0400
TZOFFSETTO:-0500
TZNAME:EST
DTSTART:20171105T060000
END:STANDARD
BEGIN:DAYLIGHT
TZOFFSETFROM:-0500
TZOFFSETTO:-0400
TZNAME:EDT
DTSTART:20180311T070000
END:DAYLIGHT
BEGIN:STANDARD
TZOFFSETFROM:-0400
TZOFFSETTO:-0500
TZNAME:EST
DTSTART:20181104T060000
END:STANDARD
END:VTIMEZONE
BEGIN:VEVENT
DTSTART;TZID=America/New_York:20170720T220000
DTEND;TZID=America/New_York:20170721T000000
DTSTAMP:20260423T073147
CREATED:20180807T174755Z
LAST-MODIFIED:20180807T174755Z
UID:13796-1500588000-1500595200@library.transylvaniacounty.org
SUMMARY:Second Look Films presents
DESCRIPTION:HIDDEN FIGURES: Come catch this Academy Award nominated film about three brilliant women who join NASA but dont let prejudice keep them\, or the human race\, grounded. Inspiring! This FREE program is made possible by the Friends of the Library.  RATED: PG       Genres:  Biography | Drama | History\nBring along some snacks if you wish\, well have popcorn.  \n“Ignorance is the night of the mind\, a night without moon or star” \n  \n  \n 
URL:https://library.transylvaniacounty.org/event/second-look-films-presents/
END:VEVENT
END:VCALENDAR