BEGIN:VCALENDAR
VERSION:2.0
PRODID:-//Transylvania County Library - ECPv6.15.20//NONSGML v1.0//EN
CALSCALE:GREGORIAN
METHOD:PUBLISH
X-WR-CALNAME:Transylvania County Library
X-ORIGINAL-URL:https://library.transylvaniacounty.org
X-WR-CALDESC:Events for Transylvania County Library
REFRESH-INTERVAL;VALUE=DURATION:PT1H
X-Robots-Tag:noindex
X-PUBLISHED-TTL:PT1H
BEGIN:VTIMEZONE
TZID:America/New_York
BEGIN:DAYLIGHT
TZOFFSETFROM:-0500
TZOFFSETTO:-0400
TZNAME:EDT
DTSTART:20230312T070000
END:DAYLIGHT
BEGIN:STANDARD
TZOFFSETFROM:-0400
TZOFFSETTO:-0500
TZNAME:EST
DTSTART:20231105T060000
END:STANDARD
BEGIN:DAYLIGHT
TZOFFSETFROM:-0500
TZOFFSETTO:-0400
TZNAME:EDT
DTSTART:20240310T070000
END:DAYLIGHT
BEGIN:STANDARD
TZOFFSETFROM:-0400
TZOFFSETTO:-0500
TZNAME:EST
DTSTART:20241103T060000
END:STANDARD
BEGIN:DAYLIGHT
TZOFFSETFROM:-0500
TZOFFSETTO:-0400
TZNAME:EDT
DTSTART:20250309T070000
END:DAYLIGHT
BEGIN:STANDARD
TZOFFSETFROM:-0400
TZOFFSETTO:-0500
TZNAME:EST
DTSTART:20251102T060000
END:STANDARD
END:VTIMEZONE
BEGIN:VEVENT
DTSTART;TZID=America/New_York:20240523T130000
DTEND;TZID=America/New_York:20240523T150000
DTSTAMP:20260421T113944
CREATED:20240413T132240Z
LAST-MODIFIED:20240413T132240Z
UID:36615-1716469200-1716476400@library.transylvaniacounty.org
SUMMARY:Second Look Films
DESCRIPTION:The Last Full Measure \nBased on a true story\, this film chronicles the posthumous awarding of the Medal of Honor to U.S. Air Force Pararescuer William H. Pitsenbarger\, who saved over 60 men during the Vietnam War.   Come watch this film in honor of Memorial Day. \nRATED: R  Genres:  Drama | History | War\nPatrons are welcome to bring your own snacks to the film showing!
URL:https://library.transylvaniacounty.org/event/second-look-films-10/
LOCATION:Rogow Community Room\, Transylvania County Library\, 212 South Gaston Street\, Brevard\, NC\, 28712\, United States
CATEGORIES:All Ages
ATTACH;FMTTYPE=image/png:https://library.transylvaniacounty.org/wp-content/uploads/2022/12/Movie-for-TCL-website-calendar-1.png
END:VEVENT
END:VCALENDAR