BEGIN:VCALENDAR
VERSION:2.0
PRODID:-//Transylvania County Library - ECPv6.15.20//NONSGML v1.0//EN
CALSCALE:GREGORIAN
METHOD:PUBLISH
X-WR-CALNAME:Transylvania County Library
X-ORIGINAL-URL:https://library.transylvaniacounty.org
X-WR-CALDESC:Events for Transylvania County Library
REFRESH-INTERVAL;VALUE=DURATION:PT1H
X-Robots-Tag:noindex
X-PUBLISHED-TTL:PT1H
BEGIN:VTIMEZONE
TZID:America/New_York
BEGIN:DAYLIGHT
TZOFFSETFROM:-0500
TZOFFSETTO:-0400
TZNAME:EDT
DTSTART:20230312T070000
END:DAYLIGHT
BEGIN:STANDARD
TZOFFSETFROM:-0400
TZOFFSETTO:-0500
TZNAME:EST
DTSTART:20231105T060000
END:STANDARD
BEGIN:DAYLIGHT
TZOFFSETFROM:-0500
TZOFFSETTO:-0400
TZNAME:EDT
DTSTART:20240310T070000
END:DAYLIGHT
BEGIN:STANDARD
TZOFFSETFROM:-0400
TZOFFSETTO:-0500
TZNAME:EST
DTSTART:20241103T060000
END:STANDARD
BEGIN:DAYLIGHT
TZOFFSETFROM:-0500
TZOFFSETTO:-0400
TZNAME:EDT
DTSTART:20250309T070000
END:DAYLIGHT
BEGIN:STANDARD
TZOFFSETFROM:-0400
TZOFFSETTO:-0500
TZNAME:EST
DTSTART:20251102T060000
END:STANDARD
END:VTIMEZONE
BEGIN:VEVENT
DTSTART;TZID=America/New_York:20240515T120000
DTEND;TZID=America/New_York:20240515T130000
DTSTAMP:20260424T094011
CREATED:20240229T201618Z
LAST-MODIFIED:20240311T141947Z
UID:36463-1715774400-1715778000@library.transylvaniacounty.org
SUMMARY:Safety First! Emergency Preparedness
DESCRIPTION:Safety First! is a three-part educational series exploring ways to keep you and your family safe. \nPart One: Emergency Preparedness with Transylvania Public Health\nThe first session in our “Safety First” series is about preparing for emergencies.  Cheyanne Gilbert\, Preparedness Coordinator with Transylvania Public Health\, will help us to map out our “roadmap to ready” by discussing developing an emergency communication plan\, building an emergency kit\, and ways to stay informed during different kinds of emergencies. \nCheyanne Gilbert has worked in the emergency services field in Transylvania County for a number of years\, eight of them at the 911 center and working with the health department during the COVID-19 pandemic.  Through strategic planning\, training\, and collaboration with local agencies\, she strives to develop and implement effective preparedness initiatives.  She is committed to promoting resilience and readiness among local residents and takes great pride in supporting the mission of the county’s health department to protect and enhance the health of our community. \nWe hope you’ll join us for the remainder of the series: \n\nPart 2: Staying Safe Online with the NC Department of Justice  •  May 22 at 12:00 pm\nPart 3: Fraud Prevention with Self-Help Credit Union  •  May 29 at 12:00 pm\n\nThese events will take place in the Library’s Rogow Room.
URL:https://library.transylvaniacounty.org/event/safety-first-emergency-preparedness/
LOCATION:Rogow Community Room\, Transylvania County Library\, 212 South Gaston Street\, Brevard\, NC\, 28712\, United States
ATTACH;FMTTYPE=image/png:https://library.transylvaniacounty.org/wp-content/uploads/2024/02/Safety-First-images.png
END:VEVENT
END:VCALENDAR