BEGIN:VCALENDAR
VERSION:2.0
PRODID:-//Transylvania County Library - ECPv6.15.20//NONSGML v1.0//EN
CALSCALE:GREGORIAN
METHOD:PUBLISH
X-WR-CALNAME:Transylvania County Library
X-ORIGINAL-URL:https://library.transylvaniacounty.org
X-WR-CALDESC:Events for Transylvania County Library
REFRESH-INTERVAL;VALUE=DURATION:PT1H
X-Robots-Tag:noindex
X-PUBLISHED-TTL:PT1H
BEGIN:VTIMEZONE
TZID:America/New_York
BEGIN:DAYLIGHT
TZOFFSETFROM:-0500
TZOFFSETTO:-0400
TZNAME:EDT
DTSTART:20220313T070000
END:DAYLIGHT
BEGIN:STANDARD
TZOFFSETFROM:-0400
TZOFFSETTO:-0500
TZNAME:EST
DTSTART:20221106T060000
END:STANDARD
BEGIN:DAYLIGHT
TZOFFSETFROM:-0500
TZOFFSETTO:-0400
TZNAME:EDT
DTSTART:20230312T070000
END:DAYLIGHT
BEGIN:STANDARD
TZOFFSETFROM:-0400
TZOFFSETTO:-0500
TZNAME:EST
DTSTART:20231105T060000
END:STANDARD
BEGIN:DAYLIGHT
TZOFFSETFROM:-0500
TZOFFSETTO:-0400
TZNAME:EDT
DTSTART:20240310T070000
END:DAYLIGHT
BEGIN:STANDARD
TZOFFSETFROM:-0400
TZOFFSETTO:-0500
TZNAME:EST
DTSTART:20241103T060000
END:STANDARD
END:VTIMEZONE
BEGIN:VEVENT
DTSTART;TZID=America/New_York:20230602T193000
DTEND;TZID=America/New_York:20230602T204500
DTSTAMP:20260423T185211
CREATED:20230425T175425Z
LAST-MODIFIED:20230425T185621Z
UID:34902-1685734200-1685738700@library.transylvaniacounty.org
SUMMARY:SADDLETRAMP: Summer Concert Series
DESCRIPTION:Join us as the sun sets! Local and regional performers share their music in the Library Amphitheater. Rain location: Rogow Room at the Library. \nOur Summer Concert Series kicks off with the “kickin’ country” of Saddletramp. The incomparable Blake Ellege will gather an ensemble of some of the area’s finest musicians to capture the sound and feeling of classic country dance music.  Find out more about Saddletramp here. \nThe Summer Concert Series is made possible by funding from the Friends of the Transylvania County Library.  Learn more about our Friends here.
URL:https://library.transylvaniacounty.org/event/saddletramp/
LOCATION:Amphitheater\, Transylvania County Library\, 212 S. Gaston St. Brevard\, NC\, Brevard\, NC\, 28712\, United States
CATEGORIES:All Ages
ATTACH;FMTTYPE=image/png:https://library.transylvaniacounty.org/wp-content/uploads/2023/04/4.png
END:VEVENT
END:VCALENDAR