BEGIN:VCALENDAR
VERSION:2.0
PRODID:-//Transylvania County Library - ECPv6.15.20//NONSGML v1.0//EN
CALSCALE:GREGORIAN
METHOD:PUBLISH
X-WR-CALNAME:Transylvania County Library
X-ORIGINAL-URL:https://library.transylvaniacounty.org
X-WR-CALDESC:Events for Transylvania County Library
REFRESH-INTERVAL;VALUE=DURATION:PT1H
X-Robots-Tag:noindex
X-PUBLISHED-TTL:PT1H
BEGIN:VTIMEZONE
TZID:America/New_York
BEGIN:DAYLIGHT
TZOFFSETFROM:-0500
TZOFFSETTO:-0400
TZNAME:EDT
DTSTART:20200308T070000
END:DAYLIGHT
BEGIN:STANDARD
TZOFFSETFROM:-0400
TZOFFSETTO:-0500
TZNAME:EST
DTSTART:20201101T060000
END:STANDARD
BEGIN:DAYLIGHT
TZOFFSETFROM:-0500
TZOFFSETTO:-0400
TZNAME:EDT
DTSTART:20210314T070000
END:DAYLIGHT
BEGIN:STANDARD
TZOFFSETFROM:-0400
TZOFFSETTO:-0500
TZNAME:EST
DTSTART:20211107T060000
END:STANDARD
BEGIN:DAYLIGHT
TZOFFSETFROM:-0500
TZOFFSETTO:-0400
TZNAME:EDT
DTSTART:20220313T070000
END:DAYLIGHT
BEGIN:STANDARD
TZOFFSETFROM:-0400
TZOFFSETTO:-0500
TZNAME:EST
DTSTART:20221106T060000
END:STANDARD
END:VTIMEZONE
BEGIN:VEVENT
DTSTART;TZID=America/New_York:20210901T160000
DTEND;TZID=America/New_York:20210901T170000
DTSTAMP:20260421T140723
CREATED:20210708T142549Z
LAST-MODIFIED:20210708T142549Z
UID:22635-1630512000-1630515600@library.transylvaniacounty.org
SUMMARY:CANCELLED - Paws & Pages
DESCRIPTION:Our furry friend won’t be able to join us on September 1st. We’ll be back on September 15th! \nOn the 1st and 3rd Wednesdays of the month from 4:00 pm to 5:00 pm\, children can drop in to the Youth Services area and read aloud to a furry pal! \nBenefits of reading with a dog: \n\nNon-judgmental audience\nRelaxing\, low pressure setting\nPositive experience with reading\nBuilds confidence & reading skills\n\nThe Library uses volunteers and therapy dogs from the 5 Paws Therapy Group. All dogs are registered through the Alliance of Therapy Dogs.
URL:https://library.transylvaniacounty.org/event/paws-pages-2-2020-03-18-2021-08-04-2021-09-01/
CATEGORIES:Kids Event
ATTACH;FMTTYPE=:
ORGANIZER;CN="Youth Services":MAILTO:youth.services@transylvaniacounty.org
END:VEVENT
END:VCALENDAR