BEGIN:VCALENDAR
VERSION:2.0
PRODID:-//Transylvania County Library - ECPv6.15.20//NONSGML v1.0//EN
CALSCALE:GREGORIAN
METHOD:PUBLISH
X-WR-CALNAME:Transylvania County Library
X-ORIGINAL-URL:https://library.transylvaniacounty.org
X-WR-CALDESC:Events for Transylvania County Library
REFRESH-INTERVAL;VALUE=DURATION:PT1H
X-Robots-Tag:noindex
X-PUBLISHED-TTL:PT1H
BEGIN:VTIMEZONE
TZID:America/New_York
BEGIN:DAYLIGHT
TZOFFSETFROM:-0500
TZOFFSETTO:-0400
TZNAME:EDT
DTSTART:20240310T070000
END:DAYLIGHT
BEGIN:STANDARD
TZOFFSETFROM:-0400
TZOFFSETTO:-0500
TZNAME:EST
DTSTART:20241103T060000
END:STANDARD
BEGIN:DAYLIGHT
TZOFFSETFROM:-0500
TZOFFSETTO:-0400
TZNAME:EDT
DTSTART:20250309T070000
END:DAYLIGHT
BEGIN:STANDARD
TZOFFSETFROM:-0400
TZOFFSETTO:-0500
TZNAME:EST
DTSTART:20251102T060000
END:STANDARD
BEGIN:DAYLIGHT
TZOFFSETFROM:-0500
TZOFFSETTO:-0400
TZNAME:EDT
DTSTART:20260308T070000
END:DAYLIGHT
BEGIN:STANDARD
TZOFFSETFROM:-0400
TZOFFSETTO:-0500
TZNAME:EST
DTSTART:20261101T060000
END:STANDARD
END:VTIMEZONE
BEGIN:VEVENT
DTSTART;TZID=America/New_York:20250513T120000
DTEND;TZID=America/New_York:20250513T130000
DTSTAMP:20260421T061631
CREATED:20250210T211726Z
LAST-MODIFIED:20250416T191641Z
UID:10008437-1747137600-1747141200@library.transylvaniacounty.org
SUMMARY:Noontime Notions: Science Series
DESCRIPTION:The Noontime Notions: Science Series will begin at noon in the Rogow Room at the Transylvania County Library. Noontime Notions programs feature authors\, performers\, and presenters providing engaging notions for consideration\, enjoyment\, and discovery.   The program is made possible by the Friends of the Library and will last approximately 75 minutes. \nJoin presenter David Johnston for this three program series adventure to the stars.  David serves as a Solar System Ambassador for NASA and the Jet Propulsion Laboratory\, as a Science Advisor for the Pisgah Astronomical Research Institute\, and is co-founder of the AstroBrevard Astronomy Club. He has taught science\, engineering\, and math in both formal and informal settings for the past 20 years. Although his academic career was in Computer Science\, David has been a life-long amateur astronomer. David and his wife\, Caroline\, have lived in Brevard for almost four years. They have two children\, both of whom\, for better or worse\, are also nerds. \nMay 13th — Astronomy 101: the Universe in 75 Minutes \nWe humans have always been fascinated by the night sky. It’s been our calendar\, a collection of signposts that show us the way from point A to point B\, and a connect-the-dots canvas for us to draw out our myths. Join David for this (slightly compressed) survey of modern Astronomy. \nMay 20th — Artemis: Earth\, Moon\, Mars —  Our First Steps Towards Living on Other Worlds \nIn the late 1960s and early 1970s\, 12 Americans walked on the Moon. They were the first humans to set foot on another world. Then we stopped going. Now\, at long last\, we’re going back. Join David as he discusses the Artemis program\, NASA’s plan to take humanity back to the Moon\, and then on to Mars. \nMay 27th — SETI: the Search for Extraterrestrial Intelligence \nAre we alone in the Universe? Is life ubiquitous or rare? What about intelligent life? Are there other technological civilizations out there? Join  David as he presents a talk on SETI (the Search for Extraterrestrial Intelligence) and attempts to explain why we can’t answer any of those questions\, but may soon be able to.
URL:https://library.transylvaniacounty.org/event/noontime-notions-science-series/2025-05-13/
LOCATION:Rogow Community Room\, Transylvania County Library\, 212 South Gaston Street\, Brevard\, NC\, 28712\, United States
ATTACH;FMTTYPE=image/png:https://library.transylvaniacounty.org/wp-content/uploads/2024/05/ClockNN.png
END:VEVENT
END:VCALENDAR