BEGIN:VCALENDAR
VERSION:2.0
PRODID:-//Transylvania County Library - ECPv6.15.20//NONSGML v1.0//EN
CALSCALE:GREGORIAN
METHOD:PUBLISH
X-WR-CALNAME:Transylvania County Library
X-ORIGINAL-URL:https://library.transylvaniacounty.org
X-WR-CALDESC:Events for Transylvania County Library
REFRESH-INTERVAL;VALUE=DURATION:PT1H
X-Robots-Tag:noindex
X-PUBLISHED-TTL:PT1H
BEGIN:VTIMEZONE
TZID:America/New_York
BEGIN:DAYLIGHT
TZOFFSETFROM:-0500
TZOFFSETTO:-0400
TZNAME:EDT
DTSTART:20230312T070000
END:DAYLIGHT
BEGIN:STANDARD
TZOFFSETFROM:-0400
TZOFFSETTO:-0500
TZNAME:EST
DTSTART:20231105T060000
END:STANDARD
BEGIN:DAYLIGHT
TZOFFSETFROM:-0500
TZOFFSETTO:-0400
TZNAME:EDT
DTSTART:20240310T070000
END:DAYLIGHT
BEGIN:STANDARD
TZOFFSETFROM:-0400
TZOFFSETTO:-0500
TZNAME:EST
DTSTART:20241103T060000
END:STANDARD
BEGIN:DAYLIGHT
TZOFFSETFROM:-0500
TZOFFSETTO:-0400
TZNAME:EDT
DTSTART:20250309T070000
END:DAYLIGHT
BEGIN:STANDARD
TZOFFSETFROM:-0400
TZOFFSETTO:-0500
TZNAME:EST
DTSTART:20251102T060000
END:STANDARD
END:VTIMEZONE
BEGIN:VEVENT
DTSTART;TZID=America/New_York:20241029T180000
DTEND;TZID=America/New_York:20241029T190000
DTSTAMP:20260421T232009
CREATED:20240502T155413Z
LAST-MODIFIED:20241009T184830Z
UID:36642-1730224800-1730228400@library.transylvaniacounty.org
SUMMARY:NC Reads Book Discussion: Beyond Innocence
DESCRIPTION:**This event has been rescheduled for October 29.** \nNorth Carolina Reads is North Carolina Humanities’ award-winning\, statewide book club! North Carolina Reads annually features five books that explore issues of racial\, social\, and gender equity and the history and culture of North Carolina. All featured books pose critical questions about how North Carolinians view their personal roles in helping to promote and form a more just and inclusive society.  Learn more about the book selections here. \nBeyond Innocence by Phoebe Zerwick\nA young Black man is falsely accused of murdering a white woman in Winston-Salem\, North Carolina and is sentenced to life in prison\, where he spent 19 years behind bars before his tireless attorneys were able to prove his innocence. Part true crime drama\, part chronicle of a remarkable life cut short by systematic prejudice\, Zerwick’s narrative powerfully illuminates the sustained catastrophe faced by an innocent person in prison and the difficulty all formerly incarcerated people face when they try to restart their lives. \nRegistration is required to join our discussion of Beyond Innocence.  To register and join the conversation on October 29 at 6:00 pm\, click here. \nWatch NC Humanities’ recorded book event with author Phoebe Zerwick and Mark Rabil in a conversation moderated by Mike Wakeford.
URL:https://library.transylvaniacounty.org/event/nc-reads-book-discussion-beyond-innocence/
LOCATION:1st floor of the Library\, 212 South Gaston Street\, Brevard\, NC\, 28712\, United States
ATTACH;FMTTYPE=image/png:https://library.transylvaniacounty.org/wp-content/uploads/2024/04/NC-Reads-24.png
END:VEVENT
END:VCALENDAR