BEGIN:VCALENDAR
VERSION:2.0
PRODID:-//Transylvania County Library - ECPv6.15.20//NONSGML v1.0//EN
CALSCALE:GREGORIAN
METHOD:PUBLISH
X-WR-CALNAME:Transylvania County Library
X-ORIGINAL-URL:https://library.transylvaniacounty.org
X-WR-CALDESC:Events for Transylvania County Library
REFRESH-INTERVAL;VALUE=DURATION:PT1H
X-Robots-Tag:noindex
X-PUBLISHED-TTL:PT1H
BEGIN:VTIMEZONE
TZID:America/New_York
BEGIN:DAYLIGHT
TZOFFSETFROM:-0500
TZOFFSETTO:-0400
TZNAME:EDT
DTSTART:20250309T070000
END:DAYLIGHT
BEGIN:STANDARD
TZOFFSETFROM:-0400
TZOFFSETTO:-0500
TZNAME:EST
DTSTART:20251102T060000
END:STANDARD
BEGIN:DAYLIGHT
TZOFFSETFROM:-0500
TZOFFSETTO:-0400
TZNAME:EDT
DTSTART:20260308T070000
END:DAYLIGHT
BEGIN:STANDARD
TZOFFSETFROM:-0400
TZOFFSETTO:-0500
TZNAME:EST
DTSTART:20261101T060000
END:STANDARD
BEGIN:DAYLIGHT
TZOFFSETFROM:-0500
TZOFFSETTO:-0400
TZNAME:EDT
DTSTART:20270314T070000
END:DAYLIGHT
BEGIN:STANDARD
TZOFFSETFROM:-0400
TZOFFSETTO:-0500
TZNAME:EST
DTSTART:20271107T060000
END:STANDARD
END:VTIMEZONE
BEGIN:VEVENT
DTSTART;TZID=America/New_York:20260406T103000
DTEND;TZID=America/New_York:20260406T113000
DTSTAMP:20260423T044649
CREATED:20260304T152900Z
LAST-MODIFIED:20260318T180114Z
UID:38553-1775471400-1775475000@library.transylvaniacounty.org
SUMMARY:Memory Cafe
DESCRIPTION:Join us for a social gathering for those experiencing early-stage Alzheimer’s\, dementia or memory loss\, and their accompanying care partners. We will have a small gardening project to do\, allowing us to welcome spring. We will also be visited by volunteers and therapy dogs from the 5 Paws Therapy Group will be present. All dogs are registered through the Alliance of Therapy Dogs. \nRegistration is suggested\, but not required. \n \n 
URL:https://library.transylvaniacounty.org/event/memory-cafe-3/
LOCATION:Rogow Community Room\, Transylvania County Library\, 212 South Gaston Street\, Brevard\, NC\, 28712\, United States
ATTACH;FMTTYPE=image/png:https://library.transylvaniacounty.org/wp-content/uploads/2026/03/Memory-Cafe-9.png
END:VEVENT
END:VCALENDAR