BEGIN:VCALENDAR
VERSION:2.0
PRODID:-//Transylvania County Library - ECPv6.15.20//NONSGML v1.0//EN
CALSCALE:GREGORIAN
METHOD:PUBLISH
X-WR-CALNAME:Transylvania County Library
X-ORIGINAL-URL:https://library.transylvaniacounty.org
X-WR-CALDESC:Events for Transylvania County Library
REFRESH-INTERVAL;VALUE=DURATION:PT1H
X-Robots-Tag:noindex
X-PUBLISHED-TTL:PT1H
BEGIN:VTIMEZONE
TZID:America/New_York
BEGIN:DAYLIGHT
TZOFFSETFROM:-0500
TZOFFSETTO:-0400
TZNAME:EDT
DTSTART:20220313T070000
END:DAYLIGHT
BEGIN:STANDARD
TZOFFSETFROM:-0400
TZOFFSETTO:-0500
TZNAME:EST
DTSTART:20221106T060000
END:STANDARD
BEGIN:DAYLIGHT
TZOFFSETFROM:-0500
TZOFFSETTO:-0400
TZNAME:EDT
DTSTART:20230312T070000
END:DAYLIGHT
BEGIN:STANDARD
TZOFFSETFROM:-0400
TZOFFSETTO:-0500
TZNAME:EST
DTSTART:20231105T060000
END:STANDARD
BEGIN:DAYLIGHT
TZOFFSETFROM:-0500
TZOFFSETTO:-0400
TZNAME:EDT
DTSTART:20240310T070000
END:DAYLIGHT
BEGIN:STANDARD
TZOFFSETFROM:-0400
TZOFFSETTO:-0500
TZNAME:EST
DTSTART:20241103T060000
END:STANDARD
END:VTIMEZONE
BEGIN:VEVENT
DTSTART;VALUE=DATE:20231101
DTEND;VALUE=DATE:20231201
DTSTAMP:20260423T132441
CREATED:20230829T160915Z
LAST-MODIFIED:20230829T160915Z
UID:36060-1698796800-1701388799@library.transylvaniacounty.org
SUMMARY:Jigsaw Puzzle Competition
DESCRIPTION:Does your team have the edge?  \nGather your team\, enter our Jigsaw Puzzle Competition\, and find out!  \n\nCall 884-3151 x2 or stop by the library’s front desk to register your team of 2 – 4 players\nReserve a time to play or stop by with your team anytime the library is open during the month of November \nComplete the official competition puzzle… speed is the name of the game!\nThe quickest team to complete the puzzle will be announced as Puzzle Champions\n\nTeams may assemble any time the library is open during the month of November and request to complete the competition puzzle. Library staff will monitor the time and record the scores. Winners will be announced December 1.  \nIf you prefer to linger over a jigsaw puzzle over the course of a week\, the library has that covered too!  Choose from a wide variety of sizes and designs and check out one to bring home. 
URL:https://library.transylvaniacounty.org/event/jigsaw-puzzle-competition/
LOCATION:Transylvania County Library\, 212 South Gaston Street Brevard\, Brevard\, NC\, 28712\, United States
CATEGORIES:All Ages
ATTACH;FMTTYPE=image/png:https://library.transylvaniacounty.org/wp-content/uploads/2023/08/puzzle-comp-4.png
END:VEVENT
END:VCALENDAR