BEGIN:VCALENDAR
VERSION:2.0
PRODID:-//Transylvania County Library - ECPv6.15.20//NONSGML v1.0//EN
CALSCALE:GREGORIAN
METHOD:PUBLISH
X-WR-CALNAME:Transylvania County Library
X-ORIGINAL-URL:https://library.transylvaniacounty.org
X-WR-CALDESC:Events for Transylvania County Library
REFRESH-INTERVAL;VALUE=DURATION:PT1H
X-Robots-Tag:noindex
X-PUBLISHED-TTL:PT1H
BEGIN:VTIMEZONE
TZID:America/New_York
BEGIN:DAYLIGHT
TZOFFSETFROM:-0500
TZOFFSETTO:-0400
TZNAME:EDT
DTSTART:20240310T070000
END:DAYLIGHT
BEGIN:STANDARD
TZOFFSETFROM:-0400
TZOFFSETTO:-0500
TZNAME:EST
DTSTART:20241103T060000
END:STANDARD
BEGIN:DAYLIGHT
TZOFFSETFROM:-0500
TZOFFSETTO:-0400
TZNAME:EDT
DTSTART:20250309T070000
END:DAYLIGHT
BEGIN:STANDARD
TZOFFSETFROM:-0400
TZOFFSETTO:-0500
TZNAME:EST
DTSTART:20251102T060000
END:STANDARD
BEGIN:DAYLIGHT
TZOFFSETFROM:-0500
TZOFFSETTO:-0400
TZNAME:EDT
DTSTART:20260308T070000
END:DAYLIGHT
BEGIN:STANDARD
TZOFFSETFROM:-0400
TZOFFSETTO:-0500
TZNAME:EST
DTSTART:20261101T060000
END:STANDARD
END:VTIMEZONE
BEGIN:VEVENT
DTSTART;TZID=America/New_York:20250620T193000
DTEND;TZID=America/New_York:20250620T204500
DTSTAMP:20260421T113505
CREATED:20250415T135209Z
LAST-MODIFIED:20250415T135209Z
UID:37824-1750447800-1750452300@library.transylvaniacounty.org
SUMMARY:JETT HOLDEN • Summer Concert Series
DESCRIPTION:Join us as the sun sets! Local and regional performers share their music in the Library Amphitheater. Rain location: Rogow Room at the Library. \nThe library will welcome another Tennessee based artist Jett Holden. With an interest in performing dating back to 5th grade choir\, Holden has found his place in the contemporary country/Americana music scene with his sincere songwriting and sometimes gritty\, always melodic vocals. \n  \nThe Summer Concert Series is made possible by funding from the Friends of the Transylvania County Library.  Learn more about our Friends here.
URL:https://library.transylvaniacounty.org/event/jett-holden/
LOCATION:Amphitheater\, Transylvania County Library\, 212 S. Gaston St. Brevard\, NC\, Brevard\, NC\, 28712\, United States
CATEGORIES:All Ages
ATTACH;FMTTYPE=image/png:https://library.transylvaniacounty.org/wp-content/uploads/2025/04/Conccerts-web-event-e1744724635659.png
END:VEVENT
END:VCALENDAR