BEGIN:VCALENDAR
VERSION:2.0
PRODID:-//Transylvania County Library - ECPv6.15.20//NONSGML v1.0//EN
CALSCALE:GREGORIAN
METHOD:PUBLISH
X-WR-CALNAME:Transylvania County Library
X-ORIGINAL-URL:https://library.transylvaniacounty.org
X-WR-CALDESC:Events for Transylvania County Library
REFRESH-INTERVAL;VALUE=DURATION:PT1H
X-Robots-Tag:noindex
X-PUBLISHED-TTL:PT1H
BEGIN:VTIMEZONE
TZID:America/New_York
BEGIN:DAYLIGHT
TZOFFSETFROM:-0500
TZOFFSETTO:-0400
TZNAME:EDT
DTSTART:20240310T070000
END:DAYLIGHT
BEGIN:STANDARD
TZOFFSETFROM:-0400
TZOFFSETTO:-0500
TZNAME:EST
DTSTART:20241103T060000
END:STANDARD
BEGIN:DAYLIGHT
TZOFFSETFROM:-0500
TZOFFSETTO:-0400
TZNAME:EDT
DTSTART:20250309T070000
END:DAYLIGHT
BEGIN:STANDARD
TZOFFSETFROM:-0400
TZOFFSETTO:-0500
TZNAME:EST
DTSTART:20251102T060000
END:STANDARD
BEGIN:DAYLIGHT
TZOFFSETFROM:-0500
TZOFFSETTO:-0400
TZNAME:EDT
DTSTART:20260308T070000
END:DAYLIGHT
BEGIN:STANDARD
TZOFFSETFROM:-0400
TZOFFSETTO:-0500
TZNAME:EST
DTSTART:20261101T060000
END:STANDARD
END:VTIMEZONE
BEGIN:VEVENT
DTSTART;TZID=America/New_York:20250513T180000
DTEND;TZID=America/New_York:20250513T210000
DTSTAMP:20260421T114640
CREATED:20250312T145157Z
LAST-MODIFIED:20250415T183944Z
UID:37719-1747159200-1747170000@library.transylvaniacounty.org
SUMMARY:Invasive Plants Basket Weaving
DESCRIPTION:Invasive Plants Basket Weaving\nTuesday\, May 13\n6-9 PM\nRogow Room\nSign-up is limited to 15 participants. Advance registration required. \n \nIn this hands-on workshop\, we will explore the status of invasive plants in WNC\, then make a beautiful\, unique\, useful basket using kudzu and other bountiful yet problematic plants. \nWith Jeff Gottlieb\, the “Primitive Naturalist” \nLocal History & Culture event
URL:https://library.transylvaniacounty.org/event/invasive-plants-basket-weaving-2/
ATTACH;FMTTYPE=image/jpeg:https://library.transylvaniacounty.org/wp-content/uploads/2025/03/kudzu-basket.jpg
END:VEVENT
END:VCALENDAR