BEGIN:VCALENDAR
VERSION:2.0
PRODID:-//Transylvania County Library - ECPv6.15.20//NONSGML v1.0//EN
CALSCALE:GREGORIAN
METHOD:PUBLISH
X-WR-CALNAME:Transylvania County Library
X-ORIGINAL-URL:https://library.transylvaniacounty.org
X-WR-CALDESC:Events for Transylvania County Library
REFRESH-INTERVAL;VALUE=DURATION:PT1H
X-Robots-Tag:noindex
X-PUBLISHED-TTL:PT1H
BEGIN:VTIMEZONE
TZID:America/New_York
BEGIN:DAYLIGHT
TZOFFSETFROM:-0500
TZOFFSETTO:-0400
TZNAME:EDT
DTSTART:20210314T070000
END:DAYLIGHT
BEGIN:STANDARD
TZOFFSETFROM:-0400
TZOFFSETTO:-0500
TZNAME:EST
DTSTART:20211107T060000
END:STANDARD
BEGIN:DAYLIGHT
TZOFFSETFROM:-0500
TZOFFSETTO:-0400
TZNAME:EDT
DTSTART:20220313T070000
END:DAYLIGHT
BEGIN:STANDARD
TZOFFSETFROM:-0400
TZOFFSETTO:-0500
TZNAME:EST
DTSTART:20221106T060000
END:STANDARD
BEGIN:DAYLIGHT
TZOFFSETFROM:-0500
TZOFFSETTO:-0400
TZNAME:EDT
DTSTART:20230312T070000
END:DAYLIGHT
BEGIN:STANDARD
TZOFFSETFROM:-0400
TZOFFSETTO:-0500
TZNAME:EST
DTSTART:20231105T060000
END:STANDARD
END:VTIMEZONE
BEGIN:VEVENT
DTSTART;TZID=America/New_York:20221024T180000
DTEND;TZID=America/New_York:20221024T190000
DTSTAMP:20260421T063257
CREATED:20220822T162913Z
LAST-MODIFIED:20221020T194630Z
UID:33682-1666634400-1666638000@library.transylvaniacounty.org
SUMMARY:Identity Theft + Fraud: Who's Got Your Number?
DESCRIPTION:Join us to learn how to minimize your risk of identity theft and what to do if you are a victim. \nWe’ll discuss: \n• How identity thieves get your personal information \n• How to minimize your risk of ID theft–online and offline \n• When and where not to give your Social Security number \n• Warning signs that you may be a victim \n• What to do if you are a victim \nThis interactive workshop will be hosted by Greta Gibson from Civic Federal Credit Union and Local Government Federal Credit Union.  Bring your questions!
URL:https://library.transylvaniacounty.org/event/identity-theft-fraud-whos-got-your-number/
ATTACH;FMTTYPE=image/png:https://library.transylvaniacounty.org/wp-content/uploads/2022/08/id-theft.png
END:VEVENT
END:VCALENDAR