BEGIN:VCALENDAR
VERSION:2.0
PRODID:-//Transylvania County Library - ECPv6.15.20//NONSGML v1.0//EN
CALSCALE:GREGORIAN
METHOD:PUBLISH
X-WR-CALNAME:Transylvania County Library
X-ORIGINAL-URL:https://library.transylvaniacounty.org
X-WR-CALDESC:Events for Transylvania County Library
REFRESH-INTERVAL;VALUE=DURATION:PT1H
X-Robots-Tag:noindex
X-PUBLISHED-TTL:PT1H
BEGIN:VTIMEZONE
TZID:America/New_York
BEGIN:DAYLIGHT
TZOFFSETFROM:-0500
TZOFFSETTO:-0400
TZNAME:EDT
DTSTART:20200308T070000
END:DAYLIGHT
BEGIN:STANDARD
TZOFFSETFROM:-0400
TZOFFSETTO:-0500
TZNAME:EST
DTSTART:20201101T060000
END:STANDARD
BEGIN:DAYLIGHT
TZOFFSETFROM:-0500
TZOFFSETTO:-0400
TZNAME:EDT
DTSTART:20210314T070000
END:DAYLIGHT
BEGIN:STANDARD
TZOFFSETFROM:-0400
TZOFFSETTO:-0500
TZNAME:EST
DTSTART:20211107T060000
END:STANDARD
BEGIN:DAYLIGHT
TZOFFSETFROM:-0500
TZOFFSETTO:-0400
TZNAME:EDT
DTSTART:20220313T070000
END:DAYLIGHT
BEGIN:STANDARD
TZOFFSETFROM:-0400
TZOFFSETTO:-0500
TZNAME:EST
DTSTART:20221106T060000
END:STANDARD
END:VTIMEZONE
BEGIN:VEVENT
DTSTART;TZID=America/New_York:20210903T100000
DTEND;TZID=America/New_York:20210903T110000
DTSTAMP:20260421T083325
CREATED:20210721T153850Z
LAST-MODIFIED:20210721T153850Z
UID:10001796-1630663200-1630666800@library.transylvaniacounty.org
SUMMARY:Good Morning Yoga ~ with Clare Desmelik
DESCRIPTION:Good Morning Yoga\nmeets on Fridays @ 10 am\, Aug 6—Sept 24th outside in the Amphitheater.  (There are no alternate dates for rainy days\, but the class might be able to huddle under the porch.)  It is designed for people of all ages\, experience levels\, and movement abilities.  Families and seniors are welcome!  You can try out a single class or attend all of them.  Yoga can help you: \n\nEase Stress\nIncrease Flexibility\, Strength & Joy\n\n~Please bring a Yoga Mat/Props or just a big Towel\, Sunscreen\, & Water.~ \nThe class will be taught by Clare Desmelik from Brevard Yoga.  Clare has been practicing yoga since the early 2000’s and believes that yoga is a saving grace. She trusts in the power of a deep breath and feels that anyone’s emotional\, physical\, or mental health will benefit from the process of using their breath to connect body and mind. Clare has been both grounded and lifted from her yoga practice since her young son was diagnosed with brain cancer in 2014. When many things felt out of control\, yoga re-centered her. She is convinced that it helps reclaim your sense of calm and quiets the mind; it helps you find freedom and courage in your heart; and it allows to you to feel strength and poise in your body. She brings an approachable and revitalizing ‘go with the flow’ vibe to her classes and has been enjoying teaching since 2016. Clare is also the Spanish and Yoga teacher at Mountain Sun Community School\, a full time advocate for childhood cancer\, a grateful mom of two awesome boys\, and is often seen with her golden retriever. She is authentically convinced that ‘Love Heals’ and yoga is all about love. \nThis FREE program is made possible by the Friends of the Library.
URL:https://library.transylvaniacounty.org/event/good-morning-yoga-with-clare-desmelik/2021-09-03/
LOCATION:Amphitheater\, Transylvania County Library\, 212 S. Gaston St. Brevard\, NC\, Brevard\, NC\, 28712\, United States
CATEGORIES:Kids Event,Teen Event
ATTACH;FMTTYPE=:
END:VEVENT
END:VCALENDAR