BEGIN:VCALENDAR
VERSION:2.0
PRODID:-//Transylvania County Library - ECPv6.15.20//NONSGML v1.0//EN
CALSCALE:GREGORIAN
METHOD:PUBLISH
X-WR-CALNAME:Transylvania County Library
X-ORIGINAL-URL:https://library.transylvaniacounty.org
X-WR-CALDESC:Events for Transylvania County Library
REFRESH-INTERVAL;VALUE=DURATION:PT1H
X-Robots-Tag:noindex
X-PUBLISHED-TTL:PT1H
BEGIN:VTIMEZONE
TZID:America/New_York
BEGIN:DAYLIGHT
TZOFFSETFROM:-0500
TZOFFSETTO:-0400
TZNAME:EDT
DTSTART:20250309T070000
END:DAYLIGHT
BEGIN:STANDARD
TZOFFSETFROM:-0400
TZOFFSETTO:-0500
TZNAME:EST
DTSTART:20251102T060000
END:STANDARD
BEGIN:DAYLIGHT
TZOFFSETFROM:-0500
TZOFFSETTO:-0400
TZNAME:EDT
DTSTART:20260308T070000
END:DAYLIGHT
BEGIN:STANDARD
TZOFFSETFROM:-0400
TZOFFSETTO:-0500
TZNAME:EST
DTSTART:20261101T060000
END:STANDARD
BEGIN:DAYLIGHT
TZOFFSETFROM:-0500
TZOFFSETTO:-0400
TZNAME:EDT
DTSTART:20270314T070000
END:DAYLIGHT
BEGIN:STANDARD
TZOFFSETFROM:-0400
TZOFFSETTO:-0500
TZNAME:EST
DTSTART:20271107T060000
END:STANDARD
END:VTIMEZONE
BEGIN:VEVENT
DTSTART;TZID=America/New_York:20260415T130000
DTEND;TZID=America/New_York:20260415T140000
DTSTAMP:20260423T065712
CREATED:20260318T151738Z
LAST-MODIFIED:20260401T201019Z
UID:38592-1776258000-1776261600@library.transylvaniacounty.org
SUMMARY:Field Trips for Grownups: Allison-Deaver House
DESCRIPTION:Introducing: Field Trips for Grownups!  Get behind-the-scenes tours of the places – and meet the people – who help our community thrive!  These events are for folks 18+.  We’ll walk around and see the sites\, ask all our burning questions\, and make friends with community helpers.  Registration is required as space is limited. \nFirst stop: Allison-Deaver House\, aka: “The Oldest House in Transylvania County” \nWhen: Wednesday\, April 15 •  1:00-2:00 pm \nWhere: Meet there: 2753 Asheville Hwy Pisgah Forest **Please note: we are not providing transportation; meet there!** \nJoin us for a tour of the Allison-Deaver House and learn all about the home and its role in our county’s history. \n \n  \n 
URL:https://library.transylvaniacounty.org/event/field-trips-for-grownups-allison-deaver-house/
LOCATION:The Allison-Deaver House\, 2753 Asheville Hwy\, Pisgah Forest\, 28768\, United States
ATTACH;FMTTYPE=image/png:https://library.transylvaniacounty.org/wp-content/uploads/2026/03/Copy-of-Field-Trip-Web-images.png
END:VEVENT
END:VCALENDAR