BEGIN:VCALENDAR
VERSION:2.0
PRODID:-//Transylvania County Library - ECPv6.15.20//NONSGML v1.0//EN
CALSCALE:GREGORIAN
METHOD:PUBLISH
X-WR-CALNAME:Transylvania County Library
X-ORIGINAL-URL:https://library.transylvaniacounty.org
X-WR-CALDESC:Events for Transylvania County Library
REFRESH-INTERVAL;VALUE=DURATION:PT1H
X-Robots-Tag:noindex
X-PUBLISHED-TTL:PT1H
BEGIN:VTIMEZONE
TZID:America/New_York
BEGIN:DAYLIGHT
TZOFFSETFROM:-0500
TZOFFSETTO:-0400
TZNAME:EDT
DTSTART:20220313T070000
END:DAYLIGHT
BEGIN:STANDARD
TZOFFSETFROM:-0400
TZOFFSETTO:-0500
TZNAME:EST
DTSTART:20221106T060000
END:STANDARD
BEGIN:DAYLIGHT
TZOFFSETFROM:-0500
TZOFFSETTO:-0400
TZNAME:EDT
DTSTART:20230312T070000
END:DAYLIGHT
BEGIN:STANDARD
TZOFFSETFROM:-0400
TZOFFSETTO:-0500
TZNAME:EST
DTSTART:20231105T060000
END:STANDARD
BEGIN:DAYLIGHT
TZOFFSETFROM:-0500
TZOFFSETTO:-0400
TZNAME:EDT
DTSTART:20240310T070000
END:DAYLIGHT
BEGIN:STANDARD
TZOFFSETFROM:-0400
TZOFFSETTO:-0500
TZNAME:EST
DTSTART:20241103T060000
END:STANDARD
END:VTIMEZONE
BEGIN:VEVENT
DTSTART;TZID=America/New_York:20230630T193000
DTEND;TZID=America/New_York:20230630T204500
DTSTAMP:20260423T173006
CREATED:20230425T180017Z
LAST-MODIFIED:20230425T185445Z
UID:34910-1688153400-1688157900@library.transylvaniacounty.org
SUMMARY:FELLOW PYNINS: Summer Concert Series
DESCRIPTION:Join us as the sun sets! Local and regional performers share their music in the Library Amphitheater. Rain location: Rogow Room at the Library. \nWhile much of our Summer Concert Series focuses on local and regional talent\, the final show on June 30 will offer a rare opportunity to catch Fellow Pynins\, an Ashland\, Oregon based contemporary folk duo. The duo possesses a keen and bucolic sense of vocal harmony and song craft and performs predominantly original music alongside a few reworked traditional ballads gathered from their travels.  Find out more about Fellow Pynins here. \nThe Summer Concert Series is made possible by funding from the Friends of the Transylvania County Library.  Learn more about our Friends here.
URL:https://library.transylvaniacounty.org/event/fellow-pynins/
LOCATION:Amphitheater\, Transylvania County Library\, 212 S. Gaston St. Brevard\, NC\, Brevard\, NC\, 28712\, United States
CATEGORIES:All Ages
ATTACH;FMTTYPE=image/png:https://library.transylvaniacounty.org/wp-content/uploads/2023/04/2.png
END:VEVENT
END:VCALENDAR