BEGIN:VCALENDAR
VERSION:2.0
PRODID:-//Transylvania County Library - ECPv6.15.20//NONSGML v1.0//EN
CALSCALE:GREGORIAN
METHOD:PUBLISH
X-WR-CALNAME:Transylvania County Library
X-ORIGINAL-URL:https://library.transylvaniacounty.org
X-WR-CALDESC:Events for Transylvania County Library
REFRESH-INTERVAL;VALUE=DURATION:PT1H
X-Robots-Tag:noindex
X-PUBLISHED-TTL:PT1H
BEGIN:VTIMEZONE
TZID:America/New_York
BEGIN:DAYLIGHT
TZOFFSETFROM:-0500
TZOFFSETTO:-0400
TZNAME:EDT
DTSTART:20250309T070000
END:DAYLIGHT
BEGIN:STANDARD
TZOFFSETFROM:-0400
TZOFFSETTO:-0500
TZNAME:EST
DTSTART:20251102T060000
END:STANDARD
BEGIN:DAYLIGHT
TZOFFSETFROM:-0500
TZOFFSETTO:-0400
TZNAME:EDT
DTSTART:20260308T070000
END:DAYLIGHT
BEGIN:STANDARD
TZOFFSETFROM:-0400
TZOFFSETTO:-0500
TZNAME:EST
DTSTART:20261101T060000
END:STANDARD
BEGIN:DAYLIGHT
TZOFFSETFROM:-0500
TZOFFSETTO:-0400
TZNAME:EDT
DTSTART:20270314T070000
END:DAYLIGHT
BEGIN:STANDARD
TZOFFSETFROM:-0400
TZOFFSETTO:-0500
TZNAME:EST
DTSTART:20271107T060000
END:STANDARD
END:VTIMEZONE
BEGIN:VEVENT
DTSTART;TZID=America/New_York:20260624T150000
DTEND;TZID=America/New_York:20260624T160000
DTSTAMP:20260422T172612
CREATED:20260410T202505Z
LAST-MODIFIED:20260410T202505Z
UID:38673-1782313200-1782316800@library.transylvaniacounty.org
SUMMARY:Family Show: Steve Somers
DESCRIPTION:Steve Somers presents: Dig Into Reading Magic Show \nScientific discovery is the foundation for the Dig into Reading Magic Show. The show engages readers with simple science lessons (about old things) wrapped in fun easy to remember stories.  Using magic tricks\, a silly puppet\, drama\, music\, books and a variety of stories the show helps build the love of reading while encouraging the skills of observation and discovery. \nDig into Reading encourages kids to discover books holding treasure by DIGGING INTO THE PAST (archeology and paleontology)\, DIGGING INTO THE PRESENT (magic of curiosity)\, and DIGGING INTO THE FUTURE (possibility of time travel). \n 
URL:https://library.transylvaniacounty.org/event/family-show-steve-somers/
LOCATION:Rogow Community Room\, Transylvania County Library\, 212 South Gaston Street\, Brevard\, NC\, 28712\, United States
CATEGORIES:Kids Event
ATTACH;FMTTYPE=image/png:https://library.transylvaniacounty.org/wp-content/uploads/2026/04/2026-Steve-Somers-web-event-e1775852606755.png
END:VEVENT
END:VCALENDAR