BEGIN:VCALENDAR
VERSION:2.0
PRODID:-//Transylvania County Library - ECPv6.15.20//NONSGML v1.0//EN
CALSCALE:GREGORIAN
METHOD:PUBLISH
X-WR-CALNAME:Transylvania County Library
X-ORIGINAL-URL:https://library.transylvaniacounty.org
X-WR-CALDESC:Events for Transylvania County Library
REFRESH-INTERVAL;VALUE=DURATION:PT1H
X-Robots-Tag:noindex
X-PUBLISHED-TTL:PT1H
BEGIN:VTIMEZONE
TZID:America/New_York
BEGIN:DAYLIGHT
TZOFFSETFROM:-0500
TZOFFSETTO:-0400
TZNAME:EDT
DTSTART:20230312T070000
END:DAYLIGHT
BEGIN:STANDARD
TZOFFSETFROM:-0400
TZOFFSETTO:-0500
TZNAME:EST
DTSTART:20231105T060000
END:STANDARD
BEGIN:DAYLIGHT
TZOFFSETFROM:-0500
TZOFFSETTO:-0400
TZNAME:EDT
DTSTART:20240310T070000
END:DAYLIGHT
BEGIN:STANDARD
TZOFFSETFROM:-0400
TZOFFSETTO:-0500
TZNAME:EST
DTSTART:20241103T060000
END:STANDARD
BEGIN:DAYLIGHT
TZOFFSETFROM:-0500
TZOFFSETTO:-0400
TZNAME:EDT
DTSTART:20250309T070000
END:DAYLIGHT
BEGIN:STANDARD
TZOFFSETFROM:-0400
TZOFFSETTO:-0500
TZNAME:EST
DTSTART:20251102T060000
END:STANDARD
END:VTIMEZONE
BEGIN:VEVENT
DTSTART;TZID=America/New_York:20240717T150000
DTEND;TZID=America/New_York:20240717T160000
DTSTAMP:20260424T092254
CREATED:20240427T194253Z
LAST-MODIFIED:20240427T194253Z
UID:36681-1721228400-1721232000@library.transylvaniacounty.org
SUMMARY:Family Show: Dana Hill
DESCRIPTION:Dana Hill presents Enchanted Expeditions: A Magical Reading Adventure \nJoin award winning Magician and Storyteller Dana Hill as he uses fun and illusions to take you on an adventure at your library with books as your guide. \n 
URL:https://library.transylvaniacounty.org/event/family-show-dana-hill/
LOCATION:Rogow Community Room\, Transylvania County Library\, 212 South Gaston Street\, Brevard\, NC\, 28712\, United States
CATEGORIES:Kids Event
ATTACH;FMTTYPE=image/png:https://library.transylvaniacounty.org/wp-content/uploads/2024/04/Dana-Hill-Web-Event-e1714246931863.png
END:VEVENT
END:VCALENDAR