BEGIN:VCALENDAR
VERSION:2.0
PRODID:-//Transylvania County Library - ECPv6.15.20//NONSGML v1.0//EN
CALSCALE:GREGORIAN
METHOD:PUBLISH
X-WR-CALNAME:Transylvania County Library
X-ORIGINAL-URL:https://library.transylvaniacounty.org
X-WR-CALDESC:Events for Transylvania County Library
REFRESH-INTERVAL;VALUE=DURATION:PT1H
X-Robots-Tag:noindex
X-PUBLISHED-TTL:PT1H
BEGIN:VTIMEZONE
TZID:America/New_York
BEGIN:DAYLIGHT
TZOFFSETFROM:-0500
TZOFFSETTO:-0400
TZNAME:EDT
DTSTART:20170312T070000
END:DAYLIGHT
BEGIN:STANDARD
TZOFFSETFROM:-0400
TZOFFSETTO:-0500
TZNAME:EST
DTSTART:20171105T060000
END:STANDARD
BEGIN:DAYLIGHT
TZOFFSETFROM:-0500
TZOFFSETTO:-0400
TZNAME:EDT
DTSTART:20180311T070000
END:DAYLIGHT
BEGIN:STANDARD
TZOFFSETFROM:-0400
TZOFFSETTO:-0500
TZNAME:EST
DTSTART:20181104T060000
END:STANDARD
BEGIN:DAYLIGHT
TZOFFSETFROM:-0500
TZOFFSETTO:-0400
TZNAME:EDT
DTSTART:20190310T070000
END:DAYLIGHT
BEGIN:STANDARD
TZOFFSETFROM:-0400
TZOFFSETTO:-0500
TZNAME:EST
DTSTART:20191103T060000
END:STANDARD
END:VTIMEZONE
BEGIN:VEVENT
DTSTART;TZID=America/New_York:20180611T200000
DTEND;TZID=America/New_York:20180611T210000
DTSTAMP:20260422T075645
CREATED:20180807T174847Z
LAST-MODIFIED:20180807T174847Z
UID:13910-1528747200-1528750800@library.transylvaniacounty.org
SUMMARY:ecoEXPLORE @ TCL: Entomology Season Program
DESCRIPTION:It’s Entomology Season with ecoEXPLORE! Join us with the The North Carolina Arboretum to learn about entomology (the study of insects) and participate in a nature activity. You can also learn about and join our crew of ecoEXPLORERS – kids who submit observations of plants and animals for scientists to study and earn prizes while they do it. This drop-in program is for kids in grades K-8\, but all ages are invited. 
URL:https://library.transylvaniacounty.org/event/ecoexplore-tcl-entomology-season-program/
END:VEVENT
END:VCALENDAR