BEGIN:VCALENDAR
VERSION:2.0
PRODID:-//Transylvania County Library - ECPv6.15.20//NONSGML v1.0//EN
CALSCALE:GREGORIAN
METHOD:PUBLISH
X-WR-CALNAME:Transylvania County Library
X-ORIGINAL-URL:https://library.transylvaniacounty.org
X-WR-CALDESC:Events for Transylvania County Library
REFRESH-INTERVAL;VALUE=DURATION:PT1H
X-Robots-Tag:noindex
X-PUBLISHED-TTL:PT1H
BEGIN:VTIMEZONE
TZID:America/New_York
BEGIN:DAYLIGHT
TZOFFSETFROM:-0500
TZOFFSETTO:-0400
TZNAME:EDT
DTSTART:20230312T070000
END:DAYLIGHT
BEGIN:STANDARD
TZOFFSETFROM:-0400
TZOFFSETTO:-0500
TZNAME:EST
DTSTART:20231105T060000
END:STANDARD
BEGIN:DAYLIGHT
TZOFFSETFROM:-0500
TZOFFSETTO:-0400
TZNAME:EDT
DTSTART:20240310T070000
END:DAYLIGHT
BEGIN:STANDARD
TZOFFSETFROM:-0400
TZOFFSETTO:-0500
TZNAME:EST
DTSTART:20241103T060000
END:STANDARD
BEGIN:DAYLIGHT
TZOFFSETFROM:-0500
TZOFFSETTO:-0400
TZNAME:EDT
DTSTART:20250309T070000
END:DAYLIGHT
BEGIN:STANDARD
TZOFFSETFROM:-0400
TZOFFSETTO:-0500
TZNAME:EST
DTSTART:20251102T060000
END:STANDARD
END:VTIMEZONE
BEGIN:VEVENT
DTSTART;TZID=America/New_York:20241022T180000
DTEND;TZID=America/New_York:20241022T200000
DTSTAMP:20260424T080444
CREATED:20240906T154338Z
LAST-MODIFIED:20241007T183311Z
UID:37222-1729620000-1729627200@library.transylvaniacounty.org
SUMMARY:Craft Connection
DESCRIPTION:Take some time out of your week and get crafty with us!  We’ll explore a different craft technique at each of these programs on the 4th Tuesday of the month.  Each session will include light instruction and a bit of guidance as you explore your creative side.  These programs are for adults\, and registration is required. \nOctober’s project: Leather Catch All Tray **This program is full.  Please click below to add your name to the waitlist.**\nLearn to make a handcrafted leather catch all tray with the folks from Newfound Artisan! Join us for a fun and creative workshop where you can learn to make your own stylish leather catch all tray. This hands-on event will take place at the Library. No experience is necessary but good dexterity in your hands and a little grip strength is helpful. Don’t miss out on this opportunity to craft a unique and practical leather tray to keep all your essentials organized. See you there!
URL:https://library.transylvaniacounty.org/event/craft-connection-24/
LOCATION:Rogow Community Room\, Transylvania County Library\, 212 South Gaston Street\, Brevard\, NC\, 28712\, United States
ATTACH;FMTTYPE=image/png:https://library.transylvaniacounty.org/wp-content/uploads/2024/09/catch-all-web-image.png
END:VEVENT
END:VCALENDAR