BEGIN:VCALENDAR
VERSION:2.0
PRODID:-//Transylvania County Library - ECPv6.15.20//NONSGML v1.0//EN
CALSCALE:GREGORIAN
METHOD:PUBLISH
X-WR-CALNAME:Transylvania County Library
X-ORIGINAL-URL:https://library.transylvaniacounty.org
X-WR-CALDESC:Events for Transylvania County Library
REFRESH-INTERVAL;VALUE=DURATION:PT1H
X-Robots-Tag:noindex
X-PUBLISHED-TTL:PT1H
BEGIN:VTIMEZONE
TZID:America/New_York
BEGIN:DAYLIGHT
TZOFFSETFROM:-0500
TZOFFSETTO:-0400
TZNAME:EDT
DTSTART:20240310T070000
END:DAYLIGHT
BEGIN:STANDARD
TZOFFSETFROM:-0400
TZOFFSETTO:-0500
TZNAME:EST
DTSTART:20241103T060000
END:STANDARD
BEGIN:DAYLIGHT
TZOFFSETFROM:-0500
TZOFFSETTO:-0400
TZNAME:EDT
DTSTART:20250309T070000
END:DAYLIGHT
BEGIN:STANDARD
TZOFFSETFROM:-0400
TZOFFSETTO:-0500
TZNAME:EST
DTSTART:20251102T060000
END:STANDARD
BEGIN:DAYLIGHT
TZOFFSETFROM:-0500
TZOFFSETTO:-0400
TZNAME:EDT
DTSTART:20260308T070000
END:DAYLIGHT
BEGIN:STANDARD
TZOFFSETFROM:-0400
TZOFFSETTO:-0500
TZNAME:EST
DTSTART:20261101T060000
END:STANDARD
END:VTIMEZONE
BEGIN:VEVENT
DTSTART;TZID=America/New_York:20251001T103000
DTEND;TZID=America/New_York:20251001T120000
DTSTAMP:20260423T055356
CREATED:20250806T191946Z
LAST-MODIFIED:20250806T192323Z
UID:10008783-1759314600-1759320000@library.transylvaniacounty.org
SUMMARY:Career Assistance at the NCWorks Outpost
DESCRIPTION:Are you looking for a job? Do you need help with your job search\, resume writing\, or interviewing skills? \nA Career Advisor from the NCWorks Career Center will be in the Reference Area at the library to assist job seekers with their job search efforts. Assistance filling out job applications\, creating professional resumes\, and preparing for interviews will be provided.  An advisor will be available the first and third Wednesdays of each month from 11 am to 12 noon.   You can ALWAYS visit  the NCWorks Career Center located on the Transylvania campus of Blue Ridge Community College during their operating hours.
URL:https://library.transylvaniacounty.org/event/career-assistance-at-the-ncworks-outpost-3-2/2025-10-01/
LOCATION:1st floor of the Library\, 212 South Gaston Street\, Brevard\, NC\, 28712\, United States
ATTACH;FMTTYPE=image/png:https://library.transylvaniacounty.org/wp-content/uploads/2023/01/NCWorksOutpost.png
END:VEVENT
END:VCALENDAR