BEGIN:VCALENDAR
VERSION:2.0
PRODID:-//Transylvania County Library - ECPv6.15.20//NONSGML v1.0//EN
CALSCALE:GREGORIAN
METHOD:PUBLISH
X-WR-CALNAME:Transylvania County Library
X-ORIGINAL-URL:https://library.transylvaniacounty.org
X-WR-CALDESC:Events for Transylvania County Library
REFRESH-INTERVAL;VALUE=DURATION:PT1H
X-Robots-Tag:noindex
X-PUBLISHED-TTL:PT1H
BEGIN:VTIMEZONE
TZID:America/New_York
BEGIN:DAYLIGHT
TZOFFSETFROM:-0500
TZOFFSETTO:-0400
TZNAME:EDT
DTSTART:20160313T070000
END:DAYLIGHT
BEGIN:STANDARD
TZOFFSETFROM:-0400
TZOFFSETTO:-0500
TZNAME:EST
DTSTART:20161106T060000
END:STANDARD
BEGIN:DAYLIGHT
TZOFFSETFROM:-0500
TZOFFSETTO:-0400
TZNAME:EDT
DTSTART:20170312T070000
END:DAYLIGHT
BEGIN:STANDARD
TZOFFSETFROM:-0400
TZOFFSETTO:-0500
TZNAME:EST
DTSTART:20171105T060000
END:STANDARD
BEGIN:DAYLIGHT
TZOFFSETFROM:-0500
TZOFFSETTO:-0400
TZNAME:EDT
DTSTART:20180311T070000
END:DAYLIGHT
BEGIN:STANDARD
TZOFFSETFROM:-0400
TZOFFSETTO:-0500
TZNAME:EST
DTSTART:20181104T060000
END:STANDARD
END:VTIMEZONE
BEGIN:VEVENT
DTSTART;TZID=America/New_York:20170928T160000
DTEND;TZID=America/New_York:20170928T173000
DTSTAMP:20260422T110435
CREATED:20180807T174755Z
LAST-MODIFIED:20180807T174755Z
UID:13793-1506614400-1506619800@library.transylvaniacounty.org
SUMMARY:Brevard Authors Guild Forum
DESCRIPTION:Local authors Bob Brooks\, Karen Lauritzen\, and Deanna Klingle will discuss SHOULD YOU CHOOSE FACT OR FICTION? They will discuss both types of writing in brief presentations\, then answer questions from the audience. \nSponsored by the Brevard Authors Guild and the Friends of the Library.  Refreshments provided.
URL:https://library.transylvaniacounty.org/event/brevard-authors-guild-forum-6/
END:VEVENT
END:VCALENDAR