BEGIN:VCALENDAR
VERSION:2.0
PRODID:-//Transylvania County Library - ECPv6.15.20//NONSGML v1.0//EN
CALSCALE:GREGORIAN
METHOD:PUBLISH
X-WR-CALNAME:Transylvania County Library
X-ORIGINAL-URL:https://library.transylvaniacounty.org
X-WR-CALDESC:Events for Transylvania County Library
REFRESH-INTERVAL;VALUE=DURATION:PT1H
X-Robots-Tag:noindex
X-PUBLISHED-TTL:PT1H
BEGIN:VTIMEZONE
TZID:America/New_York
BEGIN:DAYLIGHT
TZOFFSETFROM:-0500
TZOFFSETTO:-0400
TZNAME:EDT
DTSTART:20240310T070000
END:DAYLIGHT
BEGIN:STANDARD
TZOFFSETFROM:-0400
TZOFFSETTO:-0500
TZNAME:EST
DTSTART:20241103T060000
END:STANDARD
BEGIN:DAYLIGHT
TZOFFSETFROM:-0500
TZOFFSETTO:-0400
TZNAME:EDT
DTSTART:20250309T070000
END:DAYLIGHT
BEGIN:STANDARD
TZOFFSETFROM:-0400
TZOFFSETTO:-0500
TZNAME:EST
DTSTART:20251102T060000
END:STANDARD
BEGIN:DAYLIGHT
TZOFFSETFROM:-0500
TZOFFSETTO:-0400
TZNAME:EDT
DTSTART:20260308T070000
END:DAYLIGHT
BEGIN:STANDARD
TZOFFSETFROM:-0400
TZOFFSETTO:-0500
TZNAME:EST
DTSTART:20261101T060000
END:STANDARD
END:VTIMEZONE
BEGIN:VEVENT
DTSTART;TZID=America/New_York:20250109T160000
DTEND;TZID=America/New_York:20250109T170000
DTSTAMP:20260422T133935
CREATED:20241108T172325Z
LAST-MODIFIED:20241108T172325Z
UID:37344-1736438400-1736442000@library.transylvaniacounty.org
SUMMARY:Book Nuts Book Club
DESCRIPTION:Our Book Nuts Book Club is for young readers approximately 6-9 years of age who would enjoy reading the chosen books (independently or as a family read aloud). We read a variety of genres and look forward to lively discussions every other month. You don’t have to commit to reading all the book selections – just the ones that interest you. A few weeks before the book club date\, pick up the featured book from the Kids & Teens desk to be ready for the discussion. \nThe January 2025 Book Nuts Book Club selection is The Year of the Dog by Grace Lin. \nFor more details\, please stop by or call the Kids & Teens desk at 828-884-3151 ext. 3. Registration is required.
URL:https://library.transylvaniacounty.org/event/book-nuts-book-club-42/
LOCATION:Freeman Storytime Room\, Transylvania County Library\, 212 South Gaston Street\,\, Brevard\, NC\, 28712\, United States
CATEGORIES:Kids Event
ATTACH;FMTTYPE=image/png:https://library.transylvaniacounty.org/wp-content/uploads/2022/06/book-club-web-image.png
END:VEVENT
END:VCALENDAR