BEGIN:VCALENDAR
VERSION:2.0
PRODID:-//Transylvania County Library - ECPv6.15.20//NONSGML v1.0//EN
CALSCALE:GREGORIAN
METHOD:PUBLISH
X-WR-CALNAME:Transylvania County Library
X-ORIGINAL-URL:https://library.transylvaniacounty.org
X-WR-CALDESC:Events for Transylvania County Library
REFRESH-INTERVAL;VALUE=DURATION:PT1H
X-Robots-Tag:noindex
X-PUBLISHED-TTL:PT1H
BEGIN:VTIMEZONE
TZID:America/New_York
BEGIN:DAYLIGHT
TZOFFSETFROM:-0500
TZOFFSETTO:-0400
TZNAME:EDT
DTSTART:20190310T070000
END:DAYLIGHT
BEGIN:STANDARD
TZOFFSETFROM:-0400
TZOFFSETTO:-0500
TZNAME:EST
DTSTART:20191103T060000
END:STANDARD
BEGIN:DAYLIGHT
TZOFFSETFROM:-0500
TZOFFSETTO:-0400
TZNAME:EDT
DTSTART:20200308T070000
END:DAYLIGHT
BEGIN:STANDARD
TZOFFSETFROM:-0400
TZOFFSETTO:-0500
TZNAME:EST
DTSTART:20201101T060000
END:STANDARD
BEGIN:DAYLIGHT
TZOFFSETFROM:-0500
TZOFFSETTO:-0400
TZNAME:EDT
DTSTART:20210314T070000
END:DAYLIGHT
BEGIN:STANDARD
TZOFFSETFROM:-0400
TZOFFSETTO:-0500
TZNAME:EST
DTSTART:20211107T060000
END:STANDARD
END:VTIMEZONE
BEGIN:VEVENT
DTSTART;TZID=America/New_York:20200312T161500
DTEND;TZID=America/New_York:20200312T171500
DTSTAMP:20260421T045901
CREATED:20200113T192602Z
LAST-MODIFIED:20200113T192602Z
UID:10001191-1584029700-1584033300@library.transylvaniacounty.org
SUMMARY:Book Nuts Book Club
DESCRIPTION:2020 Books Nuts Book Club\n\n\nOur Book Nuts Book Club is for young readers approximately 6-9 years of age who would enjoy and are capable of reading the books chosen for the current year’s list. The group meets every other month to enjoy book-related activities and discuss the months featured book. You dont have to commit to reading all the book selections  just the ones that interest you. A few weeks before the book club date\, pick up the featured book from the Youth Services desk and be ready to celebrate and discuss it by the meeting date. Book Nuts meet on set Thursdays throughout the year from 4:15pm  5:15pm in the Freeman Storytime Room at the Library. \nThe 2020 Book Nuts Book Club schedule is as follows: \nJanuary 9: The School at Crooked Creek by Laurie Lawlor \n \nMarch 12: Who Stole the Wizard of Oz? by Avi \n\n\n \nMay 7: The Castle in the Attic by Elizabeth Winthrop \n \nJuly 9: Recipe for Adventure – Naples! by Giada De Laurentiis \n \nSeptember 10: Word of Mouse by James Patterson \n \nNovember 12: Zack and the Turkey Attack! by Phyllis Reynolds Naylor \n \nDecember 3: End of the year party!
URL:https://library.transylvaniacounty.org/event/book-nuts-book-club-24/2020-03-12/
LOCATION:Freeman Storytime Room\, Transylvania County Library\, 212 South Gaston Street\,\, Brevard\, NC\, 28712\, United States
CATEGORIES:Kids Event
ATTACH;FMTTYPE=:
ORGANIZER;CN="Youth Services":MAILTO:youth.services@transylvaniacounty.org
END:VEVENT
END:VCALENDAR