BEGIN:VCALENDAR
VERSION:2.0
PRODID:-//Transylvania County Library - ECPv6.15.20//NONSGML v1.0//EN
CALSCALE:GREGORIAN
METHOD:PUBLISH
X-WR-CALNAME:Transylvania County Library
X-ORIGINAL-URL:https://library.transylvaniacounty.org
X-WR-CALDESC:Events for Transylvania County Library
REFRESH-INTERVAL;VALUE=DURATION:PT1H
X-Robots-Tag:noindex
X-PUBLISHED-TTL:PT1H
BEGIN:VTIMEZONE
TZID:America/New_York
BEGIN:DAYLIGHT
TZOFFSETFROM:-0500
TZOFFSETTO:-0400
TZNAME:EDT
DTSTART:20210314T070000
END:DAYLIGHT
BEGIN:STANDARD
TZOFFSETFROM:-0400
TZOFFSETTO:-0500
TZNAME:EST
DTSTART:20211107T060000
END:STANDARD
BEGIN:DAYLIGHT
TZOFFSETFROM:-0500
TZOFFSETTO:-0400
TZNAME:EDT
DTSTART:20220313T070000
END:DAYLIGHT
BEGIN:STANDARD
TZOFFSETFROM:-0400
TZOFFSETTO:-0500
TZNAME:EST
DTSTART:20221106T060000
END:STANDARD
BEGIN:DAYLIGHT
TZOFFSETFROM:-0500
TZOFFSETTO:-0400
TZNAME:EDT
DTSTART:20230312T070000
END:DAYLIGHT
BEGIN:STANDARD
TZOFFSETFROM:-0400
TZOFFSETTO:-0500
TZNAME:EST
DTSTART:20231105T060000
END:STANDARD
END:VTIMEZONE
BEGIN:VEVENT
DTSTART;TZID=America/New_York:20220708T103000
DTEND;TZID=America/New_York:20220708T113000
DTSTAMP:20260421T095924
CREATED:20180807T174650Z
LAST-MODIFIED:20180807T174650Z
UID:20309-1657276200-1657279800@library.transylvaniacounty.org
SUMMARY:Best? Books - Postponed
DESCRIPTION:Book discussion. This monthly book discussion group meets in the Activity Room at College Walk Retirement Center on the first Friday of each month at 10:30 am to discuss books selected by participants.  Click Here for More Information.
URL:https://library.transylvaniacounty.org/event/best-books-2022-07-01/
LOCATION:Activity Room – College Walk Retirement Center\, 100 N. College Row\, Brevard\, NC\, 28712\, United States
ATTACH;FMTTYPE=:
END:VEVENT
END:VCALENDAR