BEGIN:VCALENDAR
VERSION:2.0
PRODID:-//Transylvania County Library - ECPv6.15.20//NONSGML v1.0//EN
CALSCALE:GREGORIAN
METHOD:PUBLISH
X-WR-CALNAME:Transylvania County Library
X-ORIGINAL-URL:https://library.transylvaniacounty.org
X-WR-CALDESC:Events for Transylvania County Library
REFRESH-INTERVAL;VALUE=DURATION:PT1H
X-Robots-Tag:noindex
X-PUBLISHED-TTL:PT1H
BEGIN:VTIMEZONE
TZID:America/New_York
BEGIN:DAYLIGHT
TZOFFSETFROM:-0500
TZOFFSETTO:-0400
TZNAME:EDT
DTSTART:20240310T070000
END:DAYLIGHT
BEGIN:STANDARD
TZOFFSETFROM:-0400
TZOFFSETTO:-0500
TZNAME:EST
DTSTART:20241103T060000
END:STANDARD
BEGIN:DAYLIGHT
TZOFFSETFROM:-0500
TZOFFSETTO:-0400
TZNAME:EDT
DTSTART:20250309T070000
END:DAYLIGHT
BEGIN:STANDARD
TZOFFSETFROM:-0400
TZOFFSETTO:-0500
TZNAME:EST
DTSTART:20251102T060000
END:STANDARD
BEGIN:DAYLIGHT
TZOFFSETFROM:-0500
TZOFFSETTO:-0400
TZNAME:EDT
DTSTART:20260308T070000
END:DAYLIGHT
BEGIN:STANDARD
TZOFFSETFROM:-0400
TZOFFSETTO:-0500
TZNAME:EST
DTSTART:20261101T060000
END:STANDARD
END:VTIMEZONE
BEGIN:VEVENT
DTSTART;TZID=America/New_York:20250116T130000
DTEND;TZID=America/New_York:20250116T140000
DTSTAMP:20260422T141153
CREATED:20241210T145201Z
LAST-MODIFIED:20241212T195556Z
UID:37425-1737032400-1737036000@library.transylvaniacounty.org
SUMMARY:3rd Thursday Genealogy Meetup: January - Immigration Records
DESCRIPTION:Third Thursday Genealogy Meetup\nevery third Thursday of the month\n1:00 pm\n2nd floor\, North Carolina Room \nMeet up with other family history enthusiasts to discuss genealogy topics.  \nBring and share your own research\, discoveries\, stories\, and memorabilia. \n  \n2025 Third Thursday Topics \nJanuary 16: Immigration Records – ship’s passenger lists\, naturalization records & more \nFebruary 20: Notable Ancestors – share yours\, learn how to find out if you have any \nMarch 20: Female Ancestors—research challenges\, strategies \nApril 17: Roadblocks – the barriers to genealogy research (1890 Census\, Gregorian calendar) \nMay 15: Name Game – name changes\, spelling variations\, mistakes \nJune 19: Migration Patterns – people settling in the United States (Census) \nJuly 17: Changing Land – maps\, street address changes\, roads and development \nAugust 15: Annual Records – phonebooks\, yearbooks\, employment directories \nSeptember 18: Second-Class – researching marginalized people \nOctober 16: Til Death Do We Part – cemeteries\, obituaries\, death records \nNovember 20: Official Records – wills\, deeds\, military service \nDecember 18: Favorite Memories – photos\, family traditions\, favorite stories
URL:https://library.transylvaniacounty.org/event/3rd-thursday-genealogy-meetup-january-immigration-records/
CATEGORIES:Local History
ATTACH;FMTTYPE=image/png:https://library.transylvaniacounty.org/wp-content/uploads/2024/12/Genealogy-web-event-image.png
END:VEVENT
END:VCALENDAR