BEGIN:VCALENDAR
VERSION:2.0
PRODID:-//Transylvania County Library - ECPv6.15.20//NONSGML v1.0//EN
CALSCALE:GREGORIAN
METHOD:PUBLISH
X-WR-CALNAME:Transylvania County Library
X-ORIGINAL-URL:https://library.transylvaniacounty.org
X-WR-CALDESC:Events for Transylvania County Library
REFRESH-INTERVAL;VALUE=DURATION:PT1H
X-Robots-Tag:noindex
X-PUBLISHED-TTL:PT1H
BEGIN:VTIMEZONE
TZID:America/New_York
BEGIN:DAYLIGHT
TZOFFSETFROM:-0500
TZOFFSETTO:-0400
TZNAME:EDT
DTSTART:20220313T070000
END:DAYLIGHT
BEGIN:STANDARD
TZOFFSETFROM:-0400
TZOFFSETTO:-0500
TZNAME:EST
DTSTART:20221106T060000
END:STANDARD
BEGIN:DAYLIGHT
TZOFFSETFROM:-0500
TZOFFSETTO:-0400
TZNAME:EDT
DTSTART:20230312T070000
END:DAYLIGHT
BEGIN:STANDARD
TZOFFSETFROM:-0400
TZOFFSETTO:-0500
TZNAME:EST
DTSTART:20231105T060000
END:STANDARD
BEGIN:DAYLIGHT
TZOFFSETFROM:-0500
TZOFFSETTO:-0400
TZNAME:EDT
DTSTART:20240310T070000
END:DAYLIGHT
BEGIN:STANDARD
TZOFFSETFROM:-0400
TZOFFSETTO:-0500
TZNAME:EST
DTSTART:20241103T060000
END:STANDARD
END:VTIMEZONE
BEGIN:VEVENT
DTSTART;TZID=America/New_York:20230828T100000
DTEND;TZID=America/New_York:20230828T120000
DTSTAMP:20260421T083804
CREATED:20230630T182611Z
LAST-MODIFIED:20230831T190939Z
UID:10002661-1693216800-1693224000@library.transylvaniacounty.org
SUMMARY:Friends accepting donations!
DESCRIPTION:The Friends are accepting donations of gently used books\, DVDs\, music\, and puzzles.  Donations are accepted on Mondays from 10:00 – 12:00 in the library foyer.  Donations will be on hiatus for the 2023 Book Sale – last day to donate for this year’s sale is Monday\, September 18th.  Donations resume on Mondays in November.
URL:https://library.transylvaniacounty.org/event/35916/2023-08-28/
LOCATION:Foyer\, Transylvania County Library\, 212 South Gaston Street\, Brevard\, NC\, 28712\, United States
ATTACH;FMTTYPE=image/png:https://library.transylvaniacounty.org/wp-content/uploads/2023/06/FOLdonationimage.png
END:VEVENT
END:VCALENDAR